BEGIN:VCALENDAR
VERSION:2.0
PRODID:-//wp-events-plugin.com//7.0.5//EN
TZID:America/Los_Angeles
X-WR-TIMEZONE:America/Los_Angeles
BEGIN:VEVENT
UID:10@onc-pdx.org
DTSTART;TZID=America/Los_Angeles;VALUE=DATE:20150109
DTEND;TZID=America/Los_Angeles;VALUE=DATE:20150112
DTSTAMP:20141029T041144Z
URL:https://onc-pdx.org/events/ochoco-mountains-1-oregon/
SUMMARY:Ochoco Mountains #1\, Oregon
DESCRIPTION:Ochoco Mountains–Trip #1\, ORThis trip has become a hot selle
 r for the ONC-PDx! We are repeating it several times this year. The Ochoco
  Mountains are located 30 miles east of Prineville\, OR. The high elevatio
 n of 4\,800 to 6\,200 feet and desert location provide for excellent dry s
 now conditions and unsurpassed views of the Cascades. Because of the easte
 rn location and the high elevation\, we usually experience sunny skies or 
 snow fall. There is rarely a rainy day. The trails are over gentle\, rolli
 ng hills covered with stands of old growth Ponderosa and Lodge Pole Pines.
  The well-marked trail system by the Ochoco Chapter of the ONC offers all 
 levels of skiing\, from easy to difficult. We’ll split up into groups ba
 sed on ability levels. Accommodations are in a former well-appointed fore
 st ranger cabin (elevation about 3\,000 feet) with three bedrooms\, one an
 d a half baths. It is heated and has water\, but no cell phone coverage! P
 articipants must bring sleeping bags\, pillows\, and towels. We must pack 
 out all garbage. We’ll potluck dinner for Saturday night meal. Bring you
 r own breakfast and lunches. The drive is about three hours from Portland.
  We’ll ski both Saturday and Sunday.Trip limit: 7 participants\, includi
 ng the leaderCost: $35 per person\; you must be a current ONC member befor
 e signing up for this trip. This fee covers two nights of lodging.Contact 
 leader regarding space availability.  Send an ONC-PDx overnight tour appl
 ication and $35 check payable to ONC-Portland Chapter to the trip leader:
  Sandy Gooch\, 503-913-3510 or sandygooch@comcast.net &nbsp\;
CATEGORIES:Backcountry Ski/Telemarking,Cross Country Ski,Snowshoe
END:VEVENT
BEGIN:VTIMEZONE
TZID:America/Los_Angeles
X-LIC-LOCATION:America/Los_Angeles
BEGIN:STANDARD
DTSTART:20141102T010000
TZOFFSETFROM:-0700
TZOFFSETTO:-0800
TZNAME:PST
END:STANDARD
END:VTIMEZONE
END:VCALENDAR