BEGIN:VCALENDAR
VERSION:2.0
PRODID:-//wp-events-plugin.com//7.0.5//EN
TZID:America/Los_Angeles
X-WR-TIMEZONE:America/Los_Angeles
BEGIN:VEVENT
UID:642@onc-pdx.org
DTSTART;TZID=America/Los_Angeles;VALUE=DATE:20200130
DTEND;TZID=America/Los_Angeles;VALUE=DATE:20200203
DTSTAMP:20191125T211702Z
URL:https://onc-pdx.org/events/ochoco-high-country-2020/
SUMMARY:Ochoco High Country
DESCRIPTION:Thursday\, Jan. 30 thru Sunday\, Feb. 2Ochoco National Forest\,
  ORIntermediate-AdvancedBackCountry Skiing in the Oregon Ochoco Mtns. – 
 Open\, Uncluttered Ponderosa Pine High Country!&nbsp\;&nbsp\; A three nigh
 t stay at Rustic Ochoco Ranger Station (Two Queen Beds\, Three Twins). Arr
 ive to the ranger station lunchtime Thursday with plans for an afternoon s
 ki (Walton Lake or Bandit Springs Ski Trails) followed by two full days of
  up and down backcountry ski tours to Lookout\, Round or Slide Summits wit
 h possibility of a Sunday morning farewell ski before the drive back to th
 e Portland Area.Backcountry ski gear (NNN bindings or better) required as 
 skiing will be done on trails and ungroomed up and down terrain).Planned g
 roup dinners and breakfasts with lunches on the trail followed by apres sk
 i unwind!Transportation plans\; Participants expected to car-pool from Por
 tland Thursday AM for a ~3.5 hr. driveFor More Information about the Ochoc
 o Ranger Station\, visit the website at&nbsp\;Ochoco Ranger Rental House.&
 nbsp\; Please note to bring your own bedding or sleeping bag.&nbsp\; Trip 
 limit:&nbsp\; 5-7 participants depending on sleeping arrangements includin
 g trip leader.Cost: $75/member\, per person.&nbsp\; Includes 3 nights lodg
 ing.Carpool miles:&nbsp\; 340 miles roundtrip from Portland plus excursion
 s to trailheads.Trip Leader:&nbsp\; Mike Faden\, mikefaden@gmail.com
CATEGORIES:Cross Country Ski
END:VEVENT
BEGIN:VTIMEZONE
TZID:America/Los_Angeles
X-LIC-LOCATION:America/Los_Angeles
BEGIN:STANDARD
DTSTART:20191103T010000
TZOFFSETFROM:-0700
TZOFFSETTO:-0800
TZNAME:PST
END:STANDARD
END:VTIMEZONE
END:VCALENDAR