BEGIN:VCALENDAR
VERSION:2.0
PRODID:-//wp-events-plugin.com//7.0.5//EN
TZID:America/Los_Angeles
X-WR-TIMEZONE:America/Los_Angeles
BEGIN:VEVENT
UID:36@onc-pdx.org
DTSTART;TZID=America/Los_Angeles:20141104T183000
DTEND;TZID=America/Los_Angeles:20141104T183000
DTSTAMP:20141029T033754Z
URL:https://onc-pdx.org/events/november-meeting/
SUMMARY:November Meeting
DESCRIPTION:Volunteer Recognition and Avalanche Safety Update6:30 - Food an
 d Socializing7:15 pm - Volunteer Recognition7:30 - 9 pm - Speaker: Roland
  "Em" Emetaz \, Avalanche Awareness Program (NWAC-AIRE) Most of us are a
 ware of the dangers\, but do we recognize risky conditions\, and are we al
 ways as careful as we should be? Do we know what to do if the unspeakable 
 happens? Join Roland "Em" Emetaz of the Avalanche Awareness Program for a 
 very important update\, including where and why avalanches occur\, who get
 s caught and why\, and tips for staying safe in the backcountry. You will 
 learn how to recognize signs of avalanche danger\, how to avoid or reduce 
 the risk\, how to access local avalanche reports\, and the importance of c
 ompanion rescue techniques and equipment. The show will feature slides and
  local case histories\, and will encourage questions from the audience.
LOCATION:\, \, 
X-APPLE-STRUCTURED-LOCATION;VALUE=URI;X-ADDRESS=\, ;X-APPLE-RADIUS=100;X-TI
 TLE=:geo:0,0
END:VEVENT
BEGIN:VTIMEZONE
TZID:America/Los_Angeles
X-LIC-LOCATION:America/Los_Angeles
BEGIN:STANDARD
DTSTART:20141102T010000
TZOFFSETFROM:-0700
TZOFFSETTO:-0800
TZNAME:PST
END:STANDARD
END:VTIMEZONE
END:VCALENDAR