BEGIN:VCALENDAR
VERSION:2.0
PRODID:-//wp-events-plugin.com//7.0.5//EN
TZID:America/Los_Angeles
X-WR-TIMEZONE:America/Los_Angeles
BEGIN:VEVENT
UID:800@onc-pdx.org
DTSTART;TZID=America/Los_Angeles:20201110T193000
DTEND;TZID=America/Los_Angeles:20201110T210000
DTSTAMP:20201103T202732Z
URL:https://onc-pdx.org/events/november-meeting-tanzania-culture-and-wildl
 ife/
SUMMARY:November Meeting: Tanzania: Culture and Wildlife
DESCRIPTION:ONC-PDX Monthly Meeting\nTanzania: Culture and Wildlife\n\nWhen
 : Tuesday October 6th\, 7pm – 9pm\nWhere: Zoom! Members will receive the
  link by email\n\nJoin Ron Bekey and Ramona Holmes for a multimedia advent
 ure in Tanzania\, from the sunswept plateaus&nbsp\;of the Serengeti to the
  turquoise&nbsp\;blue seas of Zanzibar. Experience the largest music and d
 ance festival in Tanzania\, remote villages\, and life on a banana plantat
 ion in the hills above Arusha. Enjoy a multitude of wildlife up close from
  camping safaris in two parts of the country. Hope to see you online!\n\nT
 he flyer is below\, or you can see the original at&nbsp\;https://onc-pdx.o
 rg/wp-content/uploads/2020/11/R-and-R-Tanzania-11-10-20.pdf\n\n
CATEGORIES:Meeting
END:VEVENT
BEGIN:VTIMEZONE
TZID:America/Los_Angeles
X-LIC-LOCATION:America/Los_Angeles
BEGIN:STANDARD
DTSTART:20201101T010000
TZOFFSETFROM:-0700
TZOFFSETTO:-0800
TZNAME:PST
END:STANDARD
END:VTIMEZONE
END:VCALENDAR