BEGIN:VCALENDAR
VERSION:2.0
PRODID:-//wp-events-plugin.com//7.0.5//EN
TZID:America/Los_Angeles
X-WR-TIMEZONE:America/Los_Angeles
BEGIN:VEVENT
UID:768@onc-pdx.org
DTSTART;TZID=America/Los_Angeles:20200912T090000
DTEND;TZID=America/Los_Angeles:20200912T150000
DTSTAMP:20200908T141053Z
URL:https://onc-pdx.org/events/nordic-bypass-ski-trail-mt-hood-or/
SUMMARY:Government Camp Ski Trails\, Mt. Hood\, OR
DESCRIPTION:Come on out to help restore these good connector trails and enj
 oy a day in the woods.\n\nPlan on brushing\, limbing overgrowth\, and hang
 ing blue diamonds. Bring COVID mask\, glasses or protective eyewear&nbsp\;
 and work gloves.&nbsp\; Wear&nbsp\; long pants\, long sleeve shirt and boo
 ts\, have &nbsp\;bug juice and sunscreen\, plenty of water\, snacks and lu
 nch. ONC will provide tools and hard hats.&nbsp\;&nbsp\;\n\nEach person or
  family unit must drive in separate cars ( SORRY no CAR Pools). Meet at th
 e Government Camp Rest Area at 9:00am.\n\nSign up below or for more info c
 ontact the leader: Ken Wenzel 503.729.6571 (call or text) skiwenzel@hotmai
 l.com\n\nSelect the number of spaces for all of the people in your party a
 nd provide their contact information where indicated.
CATEGORIES:Trail Tending
END:VEVENT
BEGIN:VTIMEZONE
TZID:America/Los_Angeles
X-LIC-LOCATION:America/Los_Angeles
BEGIN:DAYLIGHT
DTSTART:20200308T030000
TZOFFSETFROM:-0800
TZOFFSETTO:-0700
TZNAME:PDT
END:DAYLIGHT
END:VTIMEZONE
END:VCALENDAR