BEGIN:VCALENDAR
VERSION:2.0
PRODID:-//wp-events-plugin.com//7.0.5//EN
TZID:America/Los_Angeles
X-WR-TIMEZONE:America/Los_Angeles
BEGIN:VEVENT
UID:769@onc-pdx.org
DTSTART;TZID=America/Los_Angeles:20200812T090000
DTEND;TZID=America/Los_Angeles:20200812T150000
DTSTAMP:20200804T014212Z
URL:https://onc-pdx.org/events/nordic-bypass-ski-trail-mt-hood-or-2/
SUMMARY:Timberline Nordic Bypass Ski Trail\, Mt. Hood\, OR
DESCRIPTION:Come on out to help restore this good connector trail and enjoy
  a day in the woods.Plan on brushing\, limbing overgrowth\, and hanging bl
 ue diamonds. Bring COVID mask\, glasses or protective eyewear and work glo
 ves.&nbsp\; Wear long pants\, long sleeve shirt and boots\, have bug juice
  and sunscreen\, plenty of water\, snacks and lunch. ONC will provide tool
 s and hard hats.&nbsp\;&nbsp\;Each person or family unit must drive in sep
 arate cars ( SORRY no CAR Pools). Meet at the Government Camp Rest Area at
  9:00am.Sign up below or for more info contact the leader: Ken Wenzel 503.
 729.6571 (call or text) skiwenzel@hotmail.comSelect the number of spaces f
 or all of the people in your party and provide their contact information w
 here indicated.
CATEGORIES:Trail Tending
LOCATION:\, \, 
X-APPLE-STRUCTURED-LOCATION;VALUE=URI;X-ADDRESS=\, ;X-APPLE-RADIUS=100;X-TI
 TLE=:geo:0,0
END:VEVENT
BEGIN:VTIMEZONE
TZID:America/Los_Angeles
X-LIC-LOCATION:America/Los_Angeles
BEGIN:DAYLIGHT
DTSTART:20200308T030000
TZOFFSETFROM:-0800
TZOFFSETTO:-0700
TZNAME:PDT
END:DAYLIGHT
END:VTIMEZONE
END:VCALENDAR