BEGIN:VCALENDAR
VERSION:2.0
PRODID:-//wp-events-plugin.com//7.0.5//EN
TZID:America/Los_Angeles
X-WR-TIMEZONE:America/Los_Angeles
BEGIN:VEVENT
UID:945@onc-pdx.org
DTSTART;TZID=America/Los_Angeles;VALUE=DATE:20221228
DTEND;TZID=America/Los_Angeles;VALUE=DATE:20230102
DTSTAMP:20221008T140518Z
URL:https://onc-pdx.org/events/new-years-at-black-butte-ranch-3/
SUMMARY:New Year's at Black Butte Ranch
DESCRIPTION:Sisters/Bend Area\, OR\nDec. 28-Jan. 1\, Wed-Sun\nAll Abilities
  Ski\n\nCelebrate the New Year in the peaceful setting of Black Butte Ranc
 h. Settle in by the fire with a congenial group of Nordic skiers and enjoy
  good food\, wine and interesting conversations after an invigorating day 
 in the outdoors. Our accommodations are a large house with one king bedroo
 m\, three queen bedrooms\, and two bunks.\n\nThis central Oregon location 
 is close to skiing on Santiam Pass and in the Three Creeks area south of S
 isters. When there is snow at Black Butte Ranch\, as there was&nbsp\; last
  year\, there is great skiing right in Black Butte Ranch trails.&nbsp\; Th
 e Mt. Bachelor Ski Area\, which boasts access to prime backcountry skiing 
 as well as groomed trails\, is only 32 miles away. Not far from Bachelor a
 re the Swampy Lakes and Virginia Meissner Nordic ski areas.&nbsp\; If the 
 snowpack is low\, hiking is always an option— from the panoramic Smith R
 ocks to along the Metolius River\, where otters play in its clear waters.\
 n\nAmenities at Black Butte Ranch include community hot tubs\, sauna\, and
  swimming pool. For those who want to take a break from outdoor activities
 \, the historic town of Sisters with its restaurants\, bakery\, bookstore\
 , and various shops is close by. This trip is sure to appeal to everyone w
 ho wants to relax and escape the humdrum of daily life.\n\nTo see photos o
 f a past trip\, click here.\n\nTrip limit: 10 participants\, including the
  leader\nCost: $335 per member/person\; includes four nights of lodging.&n
 bsp\; Excludes cost of travel and meals.\nTravel miles:&nbsp\; 300 miles r
 ound trip from Portland plus excursions to trailheads.\nTrip Leader:&nbsp\
 ; Bill Neuman\, wrn3200@yahoo.com
CATEGORIES:Cross Country Ski
END:VEVENT
BEGIN:VTIMEZONE
TZID:America/Los_Angeles
X-LIC-LOCATION:America/Los_Angeles
BEGIN:STANDARD
DTSTART:20221106T010000
TZOFFSETFROM:-0700
TZOFFSETTO:-0800
TZNAME:PST
END:STANDARD
END:VTIMEZONE
END:VCALENDAR