BEGIN:VCALENDAR
VERSION:2.0
PRODID:-//wp-events-plugin.com//7.0.5//EN
TZID:America/Los_Angeles
X-WR-TIMEZONE:America/Los_Angeles
BEGIN:VEVENT
UID:831@onc-pdx.org
DTSTART;TZID=America/Los_Angeles;VALUE=DATE:20211228
DTEND;TZID=America/Los_Angeles;VALUE=DATE:20220102
DTSTAMP:20211013T002434Z
URL:https://onc-pdx.org/events/new-years-at-black-butte-ranch-2/
SUMMARY:New Year's at Black Butte Ranch
DESCRIPTION:Trip Rating: All Abilities Ski\nBasecamp:&nbsp\; Black Butte Ra
 nch\, OR\n\nCelebrate the New Year in the peaceful setting of Black Butte 
 Ranch. Settle in by the fire with a congenial group of Nordic skiers and e
 njoy good food\, wine and interesting conversations after an invigorating 
 day in the outdoors.&nbsp\; The accommodations are a large house with one 
 king bedroom\, three queen bedroom&nbsp\; and two bunks.\n\nThis central O
 regon location is close to skiing on Santiam Pass and in the Three Creeks 
 area south of Sisters. The Mt.Bachelor Ski Area\, which boasts access to p
 rime backcountry skiing as well as groomed trails\, is only 32 miles away.
  Not far from Bachelor are the Swampy Lakes and Virginia Meisner Nordic sk
 iing areas.&nbsp\; If the snowpack is low\, hiking is always an option\; f
 rom the panoramic Smith Rock to along the Metolius River\, where otters pl
 ay in its clear waters.&nbsp\;&nbsp\;\n\nAmenities at Black Butte Ranch in
 clude community hot tubs\, sauna and swimming pool. For those who want to 
 take a break from outdoor activities\, the historic town of Sisters with i
 ts restaurants\, bakery\, bookstore and various shops is close by. &nbsp\;
  This trip is sure to appeal to everyone who wants to relax and escape the
  humdrum of daily life.&nbsp\;\n\nTrip limit: 10 participants\, including 
 the leader\nCost: $310 per person\, includes four nights of lodging.&nbsp\
 ; Excludes cost of travel and meals.\nTravel miles:&nbsp\; 300 miles round
 trip from Portland plus excursions to trailheads.\nTrip Leader:&nbsp\; Ann
  Truax\, ann.truax@gmail.com
CATEGORIES:Cross Country Ski
END:VEVENT
BEGIN:VTIMEZONE
TZID:America/Los_Angeles
X-LIC-LOCATION:America/Los_Angeles
BEGIN:STANDARD
DTSTART:20211107T010000
TZOFFSETFROM:-0700
TZOFFSETTO:-0800
TZNAME:PST
END:STANDARD
END:VTIMEZONE
END:VCALENDAR