BEGIN:VCALENDAR
VERSION:2.0
PRODID:-//wp-events-plugin.com//7.0.5//EN
TZID:America/Los_Angeles
X-WR-TIMEZONE:America/Los_Angeles
BEGIN:VEVENT
UID:111@onc-pdx.org
DTSTART;TZID=America/Los_Angeles;VALUE=DATE:20151230
DTEND;TZID=America/Los_Angeles;VALUE=DATE:20160104
DTSTAMP:20151210T190050Z
URL:https://onc-pdx.org/events/new-years-at-black-butte-or/
SUMMARY:New Year’s at Black Butte\, OR
DESCRIPTION:Dec.30-Jan.3\, Wed- Sun All Ability SkiCelebrate the New Year i
 n the peaceful setting of Black Butte Ranch. No loud\, inebriated parties 
 here. Instead\, settle in by the fire with a congenial group of Nordic ski
 ers and enjoy good food\, wine and interesting conversations after an invi
 gorating day in the outdoors. This central Oregon location is close to ski
 ing on Santiam Pass and the Three Creeks area near Sisters. Mt.Bachelor Sk
 i Area\, which boasts access to prime backcountry skiing as well as groome
 d trails\, is only 32 miles away. If the snowpack is low\, hiking is alway
 s an option - from the panoramic Smith Rocks to along the Metolius River\,
  where otters play in its clear waters. Amenities at Black Butte include a
  hot tub and swimming pool at the Glaze Meadow recreation center\, a short
  walk from our rental. For those who want to take a break from outdoor act
 ivities\, the historic town of Sisters with its restaurants\, bakery\, boo
 kstore and various shops is close by. This trip is sure to appeal to every
 one who wants to relax and escape the humdrum of daily life.Trip limit: 10
  participants\, including the leader.Cost: $245.00 per person\, includes f
 our nights of lodging.Sign up at the Overnight Trip Extravaganza in Octobe
 r. Afterwards\, you may sign-up on the ONC-PDX website or send your ONC-PD
 X overnight tour application and a check for $245 payable to ONC-Portland 
 Chapter to the leader\, Ann Truax. For more info\, contact Ann at ann.trua
 x@gmail.com or call 503 756-2291
CATEGORIES:Cross Country Ski,Hiking,Skate Ski
LOCATION:\, \, 
X-APPLE-STRUCTURED-LOCATION;VALUE=URI;X-ADDRESS=\, ;X-APPLE-RADIUS=100;X-TI
 TLE=:geo:0,0
END:VEVENT
BEGIN:VTIMEZONE
TZID:America/Los_Angeles
X-LIC-LOCATION:America/Los_Angeles
BEGIN:STANDARD
DTSTART:20151101T010000
TZOFFSETFROM:-0700
TZOFFSETTO:-0800
TZNAME:PST
END:STANDARD
END:VTIMEZONE
END:VCALENDAR