BEGIN:VCALENDAR
VERSION:2.0
PRODID:-//wp-events-plugin.com//7.0.5//EN
TZID:America/Los_Angeles
X-WR-TIMEZONE:America/Los_Angeles
BEGIN:VEVENT
UID:871@onc-pdx.org
DTSTART;TZID=America/Los_Angeles;VALUE=DATE:20220111
DTEND;TZID=America/Los_Angeles;VALUE=DATE:20220112
DTSTAMP:20220107T031637Z
URL:https://onc-pdx.org/events/mt-st-helens-june-lake-swift-creek-worm-flo
 ws/
SUMMARY:Mt. St Helens June Lake\, Swift Creek\, Worm Flows
DESCRIPTION:Connect up with your fellow club members to ski across the rive
 r in Washington State. This intermediate level trip will take you over hil
 l and dale\, depending upon conditions in the area.\n\nIf you choose to be
  a driver\, get your WA Sno-Park Permit online prior to arriving.\n\nConta
 ct leader Russ Pascoe for meeting time and any questions you may have.  3
 60 901 3411  or russ.bec@gmail.com
CATEGORIES:Cross Country Ski
LOCATION:Salmon Creek Park & Ride\, 1112 NE 136th St\, Vancouver\, WA\, 986
 85\, United States
GEO:45.7201609;-122.65930249999997
X-APPLE-STRUCTURED-LOCATION;VALUE=URI;X-ADDRESS=1112 NE 136th St\, Vancouve
 r\, WA\, 98685\, United States;X-APPLE-RADIUS=100;X-TITLE=Salmon Creek Par
 k & Ride:geo:45.7201609,-122.65930249999997
END:VEVENT
BEGIN:VTIMEZONE
TZID:America/Los_Angeles
X-LIC-LOCATION:America/Los_Angeles
BEGIN:STANDARD
DTSTART:20211107T010000
TZOFFSETFROM:-0700
TZOFFSETTO:-0800
TZNAME:PST
END:STANDARD
END:VTIMEZONE
END:VCALENDAR