BEGIN:VCALENDAR
VERSION:2.0
PRODID:-//wp-events-plugin.com//7.0.5//EN
TZID:America/Los_Angeles
X-WR-TIMEZONE:America/Los_Angeles
BEGIN:VEVENT
UID:649@onc-pdx.org
DTSTART;TZID=America/Los_Angeles;VALUE=DATE:20200217
DTEND;TZID=America/Los_Angeles;VALUE=DATE:20200222
DTSTAMP:20200127T235907Z
URL:https://onc-pdx.org/events/mt-ranier-wkiing-in-luxury-2020/
SUMMARY:Mt. Rainier Skiing in Luxury
DESCRIPTION:February 17 - 21\, Monday thru FridayAshford\, WAIntermediate a
 nd Advanced SkiersWe will drive up Monday to Ashford\, WA and check into o
 ur award-winning Dancing Bear Lodge with Hot Tub and Pool Table and Heat. 
 We will ski either at the Tahoma Hut trail system or drive into Mt. Rainie
 r and ski to Refection Lakes and Mazama Ridge. The Tahoma Huts has trails 
 on the North side of Ashford and to the South side of Ashford giving us lo
 ts of trail selection. We will adjust our trail selection based on the wea
 ther and snow conditions and Park Road conditions. We will plan on shared 
 meals and cooking duties during our stay.This is all ungroomed skiing on r
 oads or trails or backcountry. The house does have WiFi and phone service 
 but no cell phone service within 20 miles.&nbsp\; The house has 6 bedrooms
  and 3 baths and 4 King Beds so bring your spouse. Check in is 4 PM and Ch
 eck out is 11 AM.&nbsp\; Trip limit:&nbsp\; 10 participants including trip
  leader.Cost:&nbsp\; $240/member\, per person.&nbsp\; Includes 4 nights lo
 dging.Carpool miles:&nbsp\; 280 miles roundtrip from Portland plus excursi
 ons to trailheads.Trip Leader:&nbsp\; Ken Wenzel\, skiwenzel@hotmail.com
CATEGORIES:Cross Country Ski
END:VEVENT
BEGIN:VTIMEZONE
TZID:America/Los_Angeles
X-LIC-LOCATION:America/Los_Angeles
BEGIN:STANDARD
DTSTART:20191103T010000
TZOFFSETFROM:-0700
TZOFFSETTO:-0800
TZNAME:PST
END:STANDARD
END:VTIMEZONE
END:VCALENDAR