BEGIN:VCALENDAR
VERSION:2.0
PRODID:-//wp-events-plugin.com//7.0.5//EN
TZID:America/Los_Angeles
X-WR-TIMEZONE:America/Los_Angeles
BEGIN:VEVENT
UID:788@onc-pdx.org
DTSTART;TZID=America/Los_Angeles;VALUE=DATE:20210325
DTEND;TZID=America/Los_Angeles;VALUE=DATE:20210329
DTSTAMP:20210307T201755Z
URL:https://onc-pdx.org/events/mt-rainier-backcountry/
SUMMARY:Mt Rainier Backcountry
DESCRIPTION:Ashford\, WA\n\nMar. 25 - 28\, Thu - Sun\n\nStrong Intermediate
  - Advanced Backcountry Ski\n\nThis is a COVID reduced risk trip plan. I p
 lan on driving up on Thursday and skiing the North Mt. Tahoma trail networ
 k\, which is mostly road ski tour\, Thursday and about 12 miles. We will s
 tay at Whittaker Motel in Ashford\, WA.&nbsp\; Rooms are about $75 per nig
 ht plus taxes\, 1 and 2 beds available.&nbsp\; Everyone is required to boo
 k their own rooms and is on their own for food\, (restaurant\, takeout or 
 eat in). Friday we will plan on skiing in the Mazama Ridge area and Reflec
 tion Lake\, which is a backcountry tour with some telemark options.&nbsp\;
  Skins are required.&nbsp\; Saturday\, if conditions are good\, we will ba
 ckcountry tour in the Tatoosh Range or higher on Rainier with telemark opt
 ions. Sunday we will do a Backcountry ski tour into the South Tahoma Huts 
 area then drive home.&nbsp\;\n\nBreakfast is available at Whittaker Café 
 daily. You should carry Avalanche gear and skins in your pack. You might l
 ook at the COVID-19 bubble concept if you are considering sharing a room o
 r car.\n\nTrip Limit: 10 participants\, including trip leader.&nbsp\;\n\nC
 ost: $10/member registration on ONC-PDX website.&nbsp\; Lodging and food o
 n your own. 3 nights in motel.&nbsp\; Pay the registration fee and then bo
 ok your room and pay the hotel directly.&nbsp\;&nbsp\;\n\nTravel miles: 27
 0 miles roundtrip to Ashford\, WA plus daily driving. Need AWD or chains a
 nd National Park fee or pass.\n\nLeader: Ken Wenzel\, skiwenzel@hotmail.co
 m
CATEGORIES:Cross Country Ski
END:VEVENT
BEGIN:VTIMEZONE
TZID:America/Los_Angeles
X-LIC-LOCATION:America/Los_Angeles
BEGIN:DAYLIGHT
DTSTART:20210314T030000
TZOFFSETFROM:-0800
TZOFFSETTO:-0700
TZNAME:PDT
END:DAYLIGHT
END:VTIMEZONE
END:VCALENDAR