BEGIN:VCALENDAR
VERSION:2.0
PRODID:-//wp-events-plugin.com//7.0.5//EN
TZID:America/Los_Angeles
X-WR-TIMEZONE:America/Los_Angeles
BEGIN:VEVENT
UID:842@onc-pdx.org
DTSTART;TZID=America/Los_Angeles;VALUE=DATE:20220321
DTEND;TZID=America/Los_Angeles;VALUE=DATE:20220325
DTSTAMP:20211013T000942Z
URL:https://onc-pdx.org/events/mt-rainier-backcountry-midweek/
SUMMARY:Mt Rainier Backcountry Midweek
DESCRIPTION:Trip Rating: Strong Intermediate – Advanced Ski\nBasecamp:&nb
 sp\; Ashford\, WA\n\nOn this trip we will ski at Paradise\, Reflection Lak
 es\, Mt. Tahoma Hut area\, and maybe by White Pass.&nbsp\; We will choose 
 locations and routes depending on weather and snow conditions. You need ba
 ckcountry skis and sturdy boots.&nbsp\; Backcountry skills will be needed 
 if you want to have fun.&nbsp\; We will carpool and share driving costs.&n
 bsp\; A National Parks Pass and Washington Sno-park Pass will be needed fo
 r each car.&nbsp\; Drive time is about 3 hours one way.\n\nWe will be stay
 ing at the Dancing Bear Lodge in Ashford\, WA. Nice lodge with Pool Table 
 and Hot Tub. Dinners will be shared.&nbsp\; Breakfasts and lunches are eac
 h skier's responsibility.\n\nI plan on driving up early on Monday and skii
 ng ½ a day before we go to the lodge.&nbsp\; Likewise on Thursday\, the p
 lan is to ski then drive home.\n\nTrip limit: 8 including trip leader\nCos
 t: $180/member\, per person.&nbsp\; Includes 3 nights lodging.&nbsp\; Excl
 udes cost of travel and meals.\nTravel miles:&nbsp\; 270 miles roundtrip f
 rom Portland plus excursions to trailheads.\nTrip Leader:&nbsp\; Ken Wenze
 l\, skiwenzel@hotmail.com
CATEGORIES:Backcountry Ski/Telemarking
END:VEVENT
BEGIN:VTIMEZONE
TZID:America/Los_Angeles
X-LIC-LOCATION:America/Los_Angeles
BEGIN:DAYLIGHT
DTSTART:20220313T030000
TZOFFSETFROM:-0800
TZOFFSETTO:-0700
TZNAME:PDT
END:DAYLIGHT
END:VTIMEZONE
END:VCALENDAR