BEGIN:VCALENDAR
VERSION:2.0
PRODID:-//wp-events-plugin.com//7.0.5//EN
TZID:America/Los_Angeles
X-WR-TIMEZONE:America/Los_Angeles
BEGIN:VEVENT
UID:1262@onc-pdx.org
DTSTART;TZID=America/Los_Angeles;VALUE=DATE:20260313
DTEND;TZID=America/Los_Angeles;VALUE=DATE:20260317
DTSTAMP:20260224T122746Z
URL:https://onc-pdx.org/events/mt-rainier-backcountry-2026/
SUMMARY:Mt Rainier Backcountry
DESCRIPTION:Mt. Rainier National Park\, Ashford\, WA\nMar. 13-16\, 2026\, F
 ri - Mon\nIntermediate and Advanced - Ungroomed &amp\; Groomed Backcountry
  Nordic\n\nOn this trip we will ski at Paradise\, Reflection Lakes\, Mt. T
 ahoma Trails areas\, and maybe White Pass Nordic Center. We will choose l
 ocations and routes depending on weather and snow conditions and the inte
 rest of the group. These areas offer a wide range of conditions from backc
 ountry to groomed trails. You need backcountry skis and sturdy boots for M
 t. Rainier areas and skis with metal edges for most of the Mt. Tahoma Trai
 ls system. Backcountry skills are advised for Mt. Rainier National Park. W
 e will carpool and share driving costs. A National Parks Pass and Washingt
 on Sno-Park Pass will be needed for each car. Drive time is about 3 hours 
 one way. Chains or traction devices are required for access to upper parki
 ng in Mt. Rainier National Park. This year we have adjusted the arrival an
 d departure dates to align with the expected road opening dates in the par
 k.\n\nWe will be staying at the same lodge as previous years in Ashford
 \, WA. It is a nicely laid-out and furnished lodge with a pool table and h
 ot tub. Dinners will be shared\, famous ONC-PDX potluck style.  Breakfast
 s and lunches are each skier’s responsibility.\n\nYou can drive up early
  on Friday and ski ½ day before going to the lodge\, or arrive later to s
 ki Saturday through Monday. On Monday the plan is to ski at Mt. Rainier an
 d then drive home. Another possibility is to drive to White Pass on Monday
  to ski before driving home.\n\nLogistics and meal arrangements will be di
 scussed as the date approaches.\n\nTrip limit:  9 participants\nCost:  $
 375 per person\nTravel miles:  From Portland\, 270 miles round trip\, plu
 s mileage to the ski areas\nTrip Leader: John Saunders\, johnosaunders@me
 .com\,\nCo-Leader: Martin Pike\, pike1765@comcast.net
CATEGORIES:Backcountry Ski/Telemarking,Cross Country Ski
END:VEVENT
BEGIN:VTIMEZONE
TZID:America/Los_Angeles
X-LIC-LOCATION:America/Los_Angeles
BEGIN:DAYLIGHT
DTSTART:20260308T030000
TZOFFSETFROM:-0800
TZOFFSETTO:-0700
TZNAME:PDT
END:DAYLIGHT
END:VTIMEZONE
END:VCALENDAR