BEGIN:VCALENDAR
VERSION:2.0
PRODID:-//wp-events-plugin.com//7.0.5//EN
TZID:America/Los_Angeles
X-WR-TIMEZONE:America/Los_Angeles
BEGIN:VEVENT
UID:962@onc-pdx.org
DTSTART;TZID=America/Los_Angeles;VALUE=DATE:20230313
DTEND;TZID=America/Los_Angeles;VALUE=DATE:20230317
DTSTAMP:20230319T143920Z
URL:https://onc-pdx.org/events/mt-rainier-backcountry-2/
SUMMARY:Mt. Rainier Backcountry - CANCELLED
DESCRIPTION:Mt. Rainier National Park\nMar. 13-16\, Mon-Thu&nbsp\;&nbsp\;&n
 bsp\;\nStrong Intermediate – Advanced Backcountry Ski\n\nOn this trip we
  will ski at Paradise\, Reflection Lakes\, Mt. Tahoma Hut area\, and maybe
  by White Pass.&nbsp\; We will choose locations and routes depending on we
 ather and snow conditions. You need backcountry skis and sturdy boots.&nbs
 p\; Backcountry skills will be needed if you want to have fun.&nbsp\; We w
 ill carpool and share driving costs.&nbsp\; A National Parks Pass and Wash
 ington Sno-Park Pass will be needed for each car.&nbsp\; Drive time is abo
 ut 3 hours one way.\n\nWe will be staying at the Dancing Bear Lodge in Ash
 ford\, WA. It is a nicely laid-out and furnished lodge with a pool table a
 nd hot tub.&nbsp\; Dinners will be shared\, famous ONC-PDX potluck style.&
 nbsp\; Breakfasts and lunches are each skier's responsibility.\n\nYou can 
 plan to drive up early on Monday and ski ½ day before going to the lodge\
 , or arrive later on Monday to ski Tues-Thus.&nbsp\; Likewise on Thursday\
 , the plan is to ski at Mt. Rainier then drive home.&nbsp\; Another possib
 ility is to drive to White Pass on Thursday to ski before driving home or 
 perhaps stay over and come back the next day.&nbsp\;\n\nLogistics and meal
  arrangements will be discussed as the date approaches.\n\nA few photos to
  oogle\, click here.\n\nTrip limit: 8 including trip leader\nCost: $195/me
 mber\, per person.&nbsp\; Includes 3 nights lodging.&nbsp\; Excludes cost 
 of travel and meals.\nTravel miles:&nbsp\; 270 miles round trip from Portl
 and plus excursions to trailheads.\nTrip Leader:&nbsp\; Bill Newman\, whn@
 comcast.net\nCo-leader:&nbsp\; Barbara Hayman\, bh13@att.net
CATEGORIES:Backcountry Ski/Telemarking,Cross Country Ski
END:VEVENT
BEGIN:VTIMEZONE
TZID:America/Los_Angeles
X-LIC-LOCATION:America/Los_Angeles
BEGIN:DAYLIGHT
DTSTART:20230312T030000
TZOFFSETFROM:-0800
TZOFFSETTO:-0700
TZNAME:PDT
END:DAYLIGHT
END:VTIMEZONE
END:VCALENDAR