BEGIN:VCALENDAR
VERSION:2.0
PRODID:-//wp-events-plugin.com//7.0.5//EN
TZID:America/Los_Angeles
X-WR-TIMEZONE:America/Los_Angeles
BEGIN:VEVENT
UID:818@onc-pdx.org
DTSTART;TZID=America/Los_Angeles:20210807T093000
DTEND;TZID=America/Los_Angeles:20210807T143000
DTSTAMP:20210804T231727Z
URL:https://onc-pdx.org/events/mt-hood-trillium-basin-lostman-trail-and-qu
 arry-trail/
SUMMARY:Mt. Hood - Trillium Basin: Lostman Trail and Quarry Trail
DESCRIPTION:We will be working on the Lostman and Quarry Trails. Meet at Tr
 illium Sno-Park&nbsp\; at 9:30 a.m.&nbsp\; We will work until about 2:30 p
 .m.&nbsp\;\n\nMost trail tending parties involve light brushing\, tree lim
 bing\, and the hanging of blue diamonds.&nbsp\; What to bring: Bring a com
 fortable pair of gloves to protect your hands (gardening gloves work well)
 . Wear long pants\, a long sleeved shirt\, and hiking boots.&nbsp\; Have b
 ug repellent and sunscreen.&nbsp\; Bring a COVID mask\, glasses or protect
 ive eyewear and work gloves.&nbsp\; \n\n\nONC-PDX will provide tools and h
 ard hats\, but quantities are limited. If you have tools that you don’t 
 mind sharing (pruning shears\, long handled lopping shears\, bow saws)\, f
 eel free to bring them.\n\nFinally\, bring a lunch\, snacks and lots of wa
 ter\, as you are sure to work up an appetite.\n\nEach person or family uni
 t must drive in separate cars ( SORRY no Carpools).\n\nSign up below or fo
 r more info contact the leader: Ken Wenzel 503.729.6571 (call or text) ski
 wenzel@hotmail.com\n\nSelect the number of spaces for all of the people in
  your party and provide their contact information where indicated.\n\n&nbs
 p\;
CATEGORIES:Trail Tending
LOCATION:Trillium Sno-Park\, Hwy. 26\, Government Camp\, OR\, United States
X-APPLE-STRUCTURED-LOCATION;VALUE=URI;X-ADDRESS=Hwy. 26\, Government Camp\,
  OR\, United States;X-APPLE-RADIUS=100;X-TITLE=Trillium Sno-Park:geo:0,0
END:VEVENT
BEGIN:VTIMEZONE
TZID:America/Los_Angeles
X-LIC-LOCATION:America/Los_Angeles
BEGIN:DAYLIGHT
DTSTART:20210314T030000
TZOFFSETFROM:-0800
TZOFFSETTO:-0700
TZNAME:PDT
END:DAYLIGHT
END:VTIMEZONE
END:VCALENDAR