BEGIN:VCALENDAR
VERSION:2.0
PRODID:-//wp-events-plugin.com//7.0.5//EN
TZID:America/Los_Angeles
X-WR-TIMEZONE:America/Los_Angeles
BEGIN:VEVENT
UID:819@onc-pdx.org
DTSTART;TZID=America/Los_Angeles:20210825T093000
DTEND;TZID=America/Los_Angeles:20210825T143000
DTSTAMP:20210705T210734Z
URL:https://onc-pdx.org/events/mt-hood-pocket-creek-tie-trail/
SUMMARY:Mt. Hood - Pocket Creek Tie Trail
DESCRIPTION:We will be working on the Pocket Creek Tie Trail. Meet at Pocke
 t Creek Sno-Park&nbsp\; at 9:30 a.m.&nbsp\; We will work until about 2:30 
 p.m.&nbsp\;\n\nMost trail tending parties involve light brushing\, tree li
 mbing\, and the hanging of blue diamonds.&nbsp\; What to bring: Bring a co
 mfortable pair of gloves to protect your hands (gardening gloves work well
 ). Wear long pants\, a long sleeved shirt\, and hiking boots.&nbsp\; Have 
 bug repellent and sunscreen.&nbsp\; Bring a COVID mask\, glasses or protec
 tive eyewear and work gloves.&nbsp\; \n\n\nONC-PDX will provide tools and 
 hard hats\, but quantities are limited. If you have tools that you don’t
  mind sharing (pruning shears\, long handled lopping shears\, bow saws)\, 
 feel free to bring them.\n\nFinally\, bring a lunch\, snacks and lots of w
 ater\, as you are sure to work up an appetite.\n\nEach person or family un
 it must drive in separate cars ( SORRY no Carpools).\n\nSign up below or f
 or more info contact the leader: Ken Wenzel 503.729.6571 (call or text) sk
 iwenzel@hotmail.com\n\nSelect the number of spaces for all of the people i
 n your party and provide their contact information where indicated.\n\n&nb
 sp\;
CATEGORIES:Trail Tending
LOCATION:Pocket Creek Sno-Park\, Hwy. 35\, Mt. Hood\, OR\, United States
X-APPLE-STRUCTURED-LOCATION;VALUE=URI;X-ADDRESS=Hwy. 35\, Mt. Hood\, OR\, U
 nited States;X-APPLE-RADIUS=100;X-TITLE=Pocket Creek Sno-Park:geo:0,0
END:VEVENT
BEGIN:VTIMEZONE
TZID:America/Los_Angeles
X-LIC-LOCATION:America/Los_Angeles
BEGIN:DAYLIGHT
DTSTART:20210314T030000
TZOFFSETFROM:-0800
TZOFFSETTO:-0700
TZNAME:PDT
END:DAYLIGHT
END:VTIMEZONE
END:VCALENDAR