BEGIN:VCALENDAR
VERSION:2.0
PRODID:-//wp-events-plugin.com//7.0.5//EN
TZID:America/Los_Angeles
X-WR-TIMEZONE:America/Los_Angeles
BEGIN:VEVENT
UID:1246@onc-pdx.org
DTSTART;TZID=America/Los_Angeles:20250807T080000
DTEND;TZID=America/Los_Angeles:20250807T170000
DTSTAMP:20250804T233724Z
URL:https://onc-pdx.org/events/mt-hood-nordic-bypass-trail-tending/
SUMMARY:Mt. Hood Nordic Bypass  Trail Tending
DESCRIPTION:Join us to help maintain the Nordic Bypass on ski trail on Mt. 
 Hood.  This is a lovely setting\, far from the maddening crowds.  Most t
 rail tending work parties involve light brushing\, tree limbing\, and the 
 hanging of blue diamonds.  We will work until about 2:30 pm with return t
 o Portland about 5 pm.  We'll supply the tools and hardhats.\n\nMeet at O
 ld Town Troutdale at 8 am sharp for carpooling - see map below.\n\nWhat to
  bring: Bring a comfortable pair of work gloves to protect your hands (gar
 dening gloves\, leather\, etc.). Wear long pants\, a long sleeved shirt\, 
 hiking boots and protective eye wear.  Dress for the weather\; it could b
 e hot\, cold\, windy\, rainy\, or any and all in the same day.  Have bug 
 repellent\, sunscreen\, plus 12 essentials. Finally\, bring small backpack
  with a lunch and snacks as you are sure to work up an appetite\, and lots
  of water.\n\nSign up below - select the number of spaces for all of the p
 eople in your party and provide their contact information where indicated.
   Note to members - please sign in to make a reservation.\n\nFor more inf
 o or if the signup is full\, contact the leader: Ken Wenzel 503-729-6571 (
 call or text) skiwenzel@hotmail.com\n\nClick on the map to view a larger s
 cale with street details of the meeting place.  Or view on Google Maps: 1
 01 Historic Columbia River Hwy\, Troutdale\, OR 97060.  Look for us in th
 e parking area behind the buildings just south of the railroad tracks.\n\n
CATEGORIES:Trail Tending
LOCATION:Oldtown Troutdale (next to railroad tracks)\, 101 Historic Columbi
 a River Hwy.\, Troutdale\, OR\, 97060\, United States
X-APPLE-STRUCTURED-LOCATION;VALUE=URI;X-ADDRESS=101 Historic Columbia River
  Hwy.\, Troutdale\, OR\, 97060\, United States;X-APPLE-RADIUS=100;X-TITLE=
 Oldtown Troutdale (next to railroad tracks):geo:0,0
END:VEVENT
BEGIN:VTIMEZONE
TZID:America/Los_Angeles
X-LIC-LOCATION:America/Los_Angeles
BEGIN:DAYLIGHT
DTSTART:20250309T030000
TZOFFSETFROM:-0800
TZOFFSETTO:-0700
TZNAME:PDT
END:DAYLIGHT
END:VTIMEZONE
END:VCALENDAR