BEGIN:VCALENDAR
VERSION:2.0
PRODID:-//wp-events-plugin.com//7.0.5//EN
TZID:America/Los_Angeles
X-WR-TIMEZONE:America/Los_Angeles
BEGIN:VEVENT
UID:987@onc-pdx.org
DTSTART;TZID=America/Los_Angeles:20221207T083000
DTEND;TZID=America/Los_Angeles:20221207T170000
DTSTAMP:20221206T203051Z
URL:https://onc-pdx.org/events/mt-hood-1st-ski-of-the-year/
SUMMARY:Mt. Hood 1st Ski of the Year
DESCRIPTION:Day Ski Trip\, Wedesday\, December 7. First Trip of the Season!
 \n\nIt’s snowing in Portland\, so it must be great in the Mountains! Let
 ’s go on a short first-ski-of-the-year trip to Mt. Hood on Wednesday\, D
 ecember 7\, Meeting for carpooling at 8:30 AM sharp at the Gateway Park an
 d Ride Station. We will return in mid-afternoon. Good day for checking out
  your gear and see if the body works!\n\nPlease RSVP to Ted Scheinman\, 50
 3-914-9584 or by email at tedskier@gmail.com.\n\n&nbsp\;\n\n&nbsp\;\n\n&n
 bsp\;\n\n&nbsp\;
CATEGORIES:Cross Country Ski,Day Tours
END:VEVENT
BEGIN:VTIMEZONE
TZID:America/Los_Angeles
X-LIC-LOCATION:America/Los_Angeles
BEGIN:STANDARD
DTSTART:20221106T010000
TZOFFSETFROM:-0700
TZOFFSETTO:-0800
TZNAME:PST
END:STANDARD
END:VTIMEZONE
END:VCALENDAR