BEGIN:VCALENDAR
VERSION:2.0
PRODID:-//wp-events-plugin.com//7.0.5//EN
TZID:America/Los_Angeles
X-WR-TIMEZONE:America/Los_Angeles
BEGIN:VEVENT
UID:1305@onc-pdx.org
DTSTART;TZID=America/Los_Angeles:20260516T080000
DTEND;TZID=America/Los_Angeles:20260516T170000
DTSTAMP:20260420T141941Z
URL:https://onc-pdx.org/events/mt-adams-princess-loop-and-goshen-creek-cab
 in-trail/
SUMMARY:Mt. Adams - Princess Loop and Goshen Creek Cabin Trail
DESCRIPTION:Join us to help maintain the Mt. Adams ski trails in the Giffor
 d-Pinchot NF.  This is a lovely setting\, far from the maddening crowds.
   Most trail tending work parties involve light brushing\, tree limbing\,
  and the hanging of blue diamonds.  We will work until about 2:30 pm with
  return to Portland about 5 pm.  We'll supply the tools and hardhats.\n\n
 Meet at Old Town Troutdale at 8 am sharp for carpooling - see map below.\n
 \nWhat to bring: Bring a comfortable pair of work gloves to protect your h
 ands (gardening gloves\, leather\, etc.). Wear long pants\, a long-sleeved
  shirt\, hiking boots and protective eye wear.  Dress for the weather\; i
 t could be hot\, cold\, windy\, rainy\, or any and all in the same day.  
 Have bug repellent\, sunscreen\, plus 12 essentials. Finally\, bring small
  backpack with a lunch and snacks as you are sure to work up an appetite\,
  and lots of water.\n\nSign up below - select the number of spaces for all
  of the people in your party and provide their contact information where i
 ndicated.  Note to members - please sign in to make a reservation.\n\nFor
  more info or if the signup is full\, contact the leader: Ken Wenzel 503-7
 29-6571 (call or text) skiwenzel@hotmail.com\n\nClick on the map to view a
  larger scale with street details of the meeting place.  Or view on Googl
 e Maps: 101 Historic Columbia River Hwy\, Troutdale\, OR 97060.  Look for
  us in the parking area behind the buildings just south of the railroad tr
 acks.\n\n
CATEGORIES:Trail Tending
LOCATION:Oldtown Troutdale (next to railroad tracks)\, 101 Historic Columbi
 a River Hwy.\, Troutdale\, OR\, 97060\, United States
X-APPLE-STRUCTURED-LOCATION;VALUE=URI;X-ADDRESS=101 Historic Columbia River
  Hwy.\, Troutdale\, OR\, 97060\, United States;X-APPLE-RADIUS=100;X-TITLE=
 Oldtown Troutdale (next to railroad tracks):geo:0,0
END:VEVENT
BEGIN:VTIMEZONE
TZID:America/Los_Angeles
X-LIC-LOCATION:America/Los_Angeles
BEGIN:DAYLIGHT
DTSTART:20260308T030000
TZOFFSETFROM:-0800
TZOFFSETTO:-0700
TZNAME:PDT
END:DAYLIGHT
END:VTIMEZONE
END:VCALENDAR