BEGIN:VCALENDAR
VERSION:2.0
PRODID:-//wp-events-plugin.com//7.0.5//EN
TZID:America/Los_Angeles
X-WR-TIMEZONE:America/Los_Angeles
BEGIN:VEVENT
UID:1250@onc-pdx.org
DTSTART;TZID=America/Los_Angeles:20250621T080000
DTEND;TZID=America/Los_Angeles:20250621T170000
DTSTAMP:20250527T201935Z
URL:https://onc-pdx.org/events/mt-adams-pipeline-tr-trail-tending/
SUMMARY:Mt. Adams Part 1 - Pipeline Tr. Trail Tending
DESCRIPTION:This is a two-parter.   Come for Saturday and work on the Pipe
 line Trail\, or camp out overnight and work on Sunday too for the Natural 
 Bridges Loop.  This is a lovely setting\, far from the maddening crowds.
   We'll camp in a campground near Peterson Cabin.  If you plan to stay o
 ver\, please sign up for the Natural Bridges too.  This is necessary so 
 we know who all is coming.\n\nWhat to bring: Bring your camp gear\, meals\
 , plus 12 essentials if you're staying over.  For trail tending\, bring a
  comfortable pair of work gloves to protect your hands (gardening gloves\,
  leather\, etc.). Wear long pants\, a long sleeved shirt\, hiking boots an
 d protective eye wear.  Dress for the weather\; it could be hot\, cold\, 
 windy\, rainy\, or any and all in the same day.  Have bug repellent\, sun
 screen\, plus 12 essentials. Finally\, bring small backpack with a lunch a
 nd snacks as you are sure to work up an appetite\, and lots of water.  We
 'll supply the tools and hardhats.\n\nSign up below - select the number of
  spaces for all of the people in your party and provide their contact info
 rmation where indicated.  Note to members - please sign in to make a rese
 rvation.\n\nFor more info or if the signup is full\, contact the leader: K
 en Wenzel 503-729-6571 (call or text) skiwenzel@hotmail.com\n\nMeet at Old
  Town Troutdale at 8:00 am sharp to  carpool/caravan.  Click on the map 
 below to view a larger scale with street details of the meeting place.  O
 r view on Google Maps: 101 Historic Columbia River Hwy\, Troutdale\, OR 97
 060.  Look for us in the parking area behind the buildings just south of 
 the railroad tracks.\n\n
CATEGORIES:Trail Tending
LOCATION:Oldtown Troutdale (next to railroad tracks)\, 101 Historic Columbi
 a River Hwy.\, Troutdale\, OR\, 97060\, United States
X-APPLE-STRUCTURED-LOCATION;VALUE=URI;X-ADDRESS=101 Historic Columbia River
  Hwy.\, Troutdale\, OR\, 97060\, United States;X-APPLE-RADIUS=100;X-TITLE=
 Oldtown Troutdale (next to railroad tracks):geo:0,0
END:VEVENT
BEGIN:VTIMEZONE
TZID:America/Los_Angeles
X-LIC-LOCATION:America/Los_Angeles
BEGIN:DAYLIGHT
DTSTART:20250309T030000
TZOFFSETFROM:-0800
TZOFFSETTO:-0700
TZNAME:PDT
END:DAYLIGHT
END:VTIMEZONE
END:VCALENDAR