BEGIN:VCALENDAR
VERSION:2.0
PRODID:-//wp-events-plugin.com//7.0.5//EN
TZID:America/Los_Angeles
X-WR-TIMEZONE:America/Los_Angeles
BEGIN:VEVENT
UID:17@onc-pdx.org
DTSTART;TZID=America/Los_Angeles;VALUE=DATE:20150130
DTEND;TZID=America/Los_Angeles;VALUE=DATE:20150202
DTSTAMP:20141203T012427Z
URL:https://onc-pdx.org/events/mt-adams-lodge-flying-l-ranch-wa/
SUMMARY:Mt.Adams Lodge at the Flying L Ranch\, WA
DESCRIPTION:Follow the flurries to Mt. Adams and join us for two days of sk
 iing and relaxing in the lodge with its enormous stone fireplace. Nestled 
 among the beautiful Ponderosa pines\, Mt. Adams Lodge at the Flying L Ranc
 h B&amp\;B is the closest overnight trip from the Portland area and a favo
 rite of ONC. Saturday night we’ll potluck. There are plenty of ski trail
 s—beginning to advanced—awaiting you on this sunny side of the Cascade
 s. Trip Limit: 19 participants\, including leaderCost: $165 you must be a
  current ONC member before signing up for this trip. Includes two nights
 ’ lodging and two gourmet breakfasts.Contact leader for space availabili
 ty.  Send your ONC-PDx overnight tour application and check payable to ON
 C-Portland Chapter for $165 to the leader: Donna Matrazzo\, 15500L NW Ferr
 y Rd\, Portland\, OR 97231. For more info contact Donna at 503 621-3049 ma
 trazzo@msn.com.&nbsp\;&nbsp\;
CATEGORIES:Cross Country Ski
END:VEVENT
BEGIN:VTIMEZONE
TZID:America/Los_Angeles
X-LIC-LOCATION:America/Los_Angeles
BEGIN:STANDARD
DTSTART:20141102T010000
TZOFFSETFROM:-0700
TZOFFSETTO:-0800
TZNAME:PST
END:STANDARD
END:VTIMEZONE
END:VCALENDAR