BEGIN:VCALENDAR
VERSION:2.0
PRODID:-//wp-events-plugin.com//7.0.5//EN
TZID:America/Los_Angeles
X-WR-TIMEZONE:America/Los_Angeles
BEGIN:VEVENT
UID:117@onc-pdx.org
DTSTART;TZID=America/Los_Angeles;VALUE=DATE:20160205
DTEND;TZID=America/Los_Angeles;VALUE=DATE:20160208
DTSTAMP:20160117T000438Z
URL:https://onc-pdx.org/events/mt-adams-lodge-at-the-flying-l-ranch-wa/
SUMMARY:Mt. Adams Lodge at the Flying L Ranch\, WA
DESCRIPTION:February 5-7\, Fri-SunAll Ability Ski Follow the flurries to Mt
 . Adams and join us for two days of skiing and relaxing in the lodge with 
 its enormous stone fireplace. Nestled among the beautiful Ponderosa pines\
 , Mt. Adams Lodge at the Flying L Ranch B&amp\;B is the closest overnight 
 trip from the Portland area and a favorite of ONC. Saturday night we’ll 
 potluck. There are plenty of ski trails—beginning to advanced—awaiting
  you on this sunny side of the Cascades.Trip Limit: 19 participants\, incl
 uding the leaderCost: $165\, includes two nights’ lodging and two gourme
 t breakfasts.Sign up at the Overnight Trip Extravaganza in October. Afterw
 ards\, you may sign-up on the ONC-PDX website or send your overnight tour 
 application and a check for $165\, payable to ONC-Portland Chapter\, to th
 e trip leader\, Donna Matrazzo. For more information contact Donna at (503
 ) 621-3049 or matrazzo@msn.com.
CATEGORIES:Cross Country Ski
LOCATION:Mt Adams Lodge\, 25 Flying L Ln\, Glenwood\, WA\, United States
GEO:46.026211;-121.279320
X-APPLE-STRUCTURED-LOCATION;VALUE=URI;X-ADDRESS=25 Flying L Ln\, Glenwood\,
  WA\, United States;X-APPLE-RADIUS=100;X-TITLE=Mt Adams Lodge:geo:46.02621
 1,-121.279320
END:VEVENT
BEGIN:VTIMEZONE
TZID:America/Los_Angeles
X-LIC-LOCATION:America/Los_Angeles
BEGIN:STANDARD
DTSTART:20151101T010000
TZOFFSETFROM:-0700
TZOFFSETTO:-0800
TZNAME:PST
END:STANDARD
END:VTIMEZONE
END:VCALENDAR