BEGIN:VCALENDAR
VERSION:2.0
PRODID:-//wp-events-plugin.com//7.0.5//EN
TZID:America/Los_Angeles
X-WR-TIMEZONE:America/Los_Angeles
BEGIN:VEVENT
UID:817@onc-pdx.org
DTSTART;TZID=America/Los_Angeles:20210707T093000
DTEND;TZID=America/Los_Angeles:20210707T143000
DTSTAMP:20210705T205739Z
URL:https://onc-pdx.org/events/mt-adams-eastside-pipeline-trail/
SUMMARY:Mt. Adams Eastside - Pipeline Trail
DESCRIPTION:We will be working on the Pipeline Trail. Meet at Pineside Sno-
 Park&nbsp\; at 9:30 a.m.&nbsp\; We will work until about 2:30 p.m.\n\nMost
  trail tending parties involve light brushing\, tree limbing\, and the han
 ging of blue diamonds.&nbsp\;&nbsp\;&nbsp\; What to bring: Bring a comfort
 able pair of gloves to protect your hands (gardening gloves work well). We
 ar long pants\, a long sleeved shirt\, and hiking boots.&nbsp\; Have bug r
 epellent and sunscreen.&nbsp\; Bring a COVID mask\, glasses or protective 
 eyewear and work gloves.&nbsp\; \n\n\nONC-PDX will provide tools and hard 
 hats\, but quantities are limited. If you have tools that you don’t mind
  sharing (pruning shears\, long handled lopping shears\, bow saws)\, feel 
 free to bring them.\n\nFinally\, bring a lunch\, snacks and lots of water\
 , as you are sure to work up an appetite.\n\nEach person or family unit mu
 st drive in separate cars (SORRY no Carpools).\n\nSign up below or for mor
 e info contact the leader: Ken Wenzel 503.729.6571 (call or text) skiwenze
 l@hotmail.com\n\nSelect the number of spaces for all of the people in your
  party and provide their contact information where indicated.\n\n&nbsp\;
CATEGORIES:Trail Tending
LOCATION:Sno-Park: Pineside\, Mt. Adams\, Forest Road 82 and 8225\, Trout L
 ake\, United States
X-APPLE-STRUCTURED-LOCATION;VALUE=URI;X-ADDRESS=Forest Road 82 and 8225\, T
 rout Lake\, United States;X-APPLE-RADIUS=100;X-TITLE=Sno-Park: Pineside\, 
 Mt. Adams:geo:0,0
END:VEVENT
BEGIN:VTIMEZONE
TZID:America/Los_Angeles
X-LIC-LOCATION:America/Los_Angeles
BEGIN:DAYLIGHT
DTSTART:20210314T030000
TZOFFSETFROM:-0800
TZOFFSETTO:-0700
TZNAME:PDT
END:DAYLIGHT
END:VTIMEZONE
END:VCALENDAR