BEGIN:VCALENDAR
VERSION:2.0
PRODID:-//wp-events-plugin.com//7.0.5//EN
TZID:America/Los_Angeles
X-WR-TIMEZONE:America/Los_Angeles
BEGIN:VEVENT
UID:1272@onc-pdx.org
DTSTART;TZID=America/Los_Angeles;VALUE=DATE:20260214
DTEND;TZID=America/Los_Angeles;VALUE=DATE:20260217
DTSTAMP:20260210T124629Z
URL:https://onc-pdx.org/events/mt-adams-abbey-retreat-2026/
SUMMARY:Mt. Adams Abbey Retreat
DESCRIPTION:Gifford-Pinchot Nation Forest\, WA\nFebruary 14-16\, 2026\, Sat
 -Mon\nBeginner to Intermediate Forest Trails\n\n“Love Yourself” on Val
 entine’s Weekend with a splendid ski retreat near Mt. Adams! Enjoy the s
 erenity and mountain vistas at the Trout Lake Abbey on Feb. 14-16\, within
  easy reach of Portland. Ski the gentle and uncrowded trails at the Atkiss
 on and Pineside Sno-Parks. Grab spikes and a light to explore the Guler Ic
 e Cave at Atkisson. Walk the Labyrinth at the Abbey in clear view of Mount
  Adams. Check out the fascinating Druid Sanctuary on the property\, too. G
 ather together with other skiers for potluck dinners that the group will p
 ut together in the commercial kitchen and socialize by the fireplace in ou
 r private meeting space.\n\nGeared primarily for Beginner to Intermediate 
 skiers. A variety of lodging options\, including a modern cozy cabin for f
 our and traditional B&amp\;B rooms with spectacular views of the mountain.
  If snow is scarce\, we can snowshoe\, hike the Klickitat Trail\, visit th
 e Conboy Lake National Wildlife Refuge in nearby Glenwood\, or find other 
 fun in White Salmon\, Lyle\, or Hood River. Pricing and other details to c
 ome.\n\nTrip limit:  10 participants\, including trip leader\nCost:  $26
 5 per person\nTravel miles:  From Portland\, 170 miles round trip\, plus 
 mileage to the ski areas. Washington Sno-park permit required.\nTrip Leade
 r:  Christine Bierman\, sisu1956@gmail.com\nCo-Leader:  Lynn Lindgren\, 
 lindschr@msn.com
CATEGORIES:Cross Country Ski,Snowshoe
END:VEVENT
BEGIN:VTIMEZONE
TZID:America/Los_Angeles
X-LIC-LOCATION:America/Los_Angeles
BEGIN:STANDARD
DTSTART:20251102T010000
TZOFFSETFROM:-0700
TZOFFSETTO:-0800
TZNAME:PST
END:STANDARD
END:VTIMEZONE
END:VCALENDAR