BEGIN:VCALENDAR
VERSION:2.0
PRODID:-//wp-events-plugin.com//7.0.5//EN
TZID:America/Los_Angeles
X-WR-TIMEZONE:America/Los_Angeles
BEGIN:VEVENT
UID:1227@onc-pdx.org
DTSTART;TZID=America/Los_Angeles:20250309T070000
DTEND;TZID=America/Los_Angeles:20250309T160000
DTSTAMP:20250304T231543Z
URL:https://onc-pdx.org/events/mount-hood-meadows-to-tilly-jane/
SUMMARY:Mount Hood Meadows to Tilly Jane
DESCRIPTION:This is a big backcountry tour as ski from the Hood River Meado
 ws parking lot\, up Lambertson butte\, across open snowfields to Cooper Sp
 ur and then down down down by Tilly Jane. You must have Telemark or AT ski
 s with skins. Expect to be on the snow all day. Sign up or email me and I'
 ll send info packets\n\n&nbsp\;\n\nLeader: Scott Diamond\nEmail: scott.dia
 mond.mail@gmail.com\nDogs allowed: No\nCost: Plan on $20/skier for carpool
  cost
CATEGORIES:Cross Country Ski,Day Tours
LOCATION:Oldtown Troutdale (next to railroad tracks)\, 101 Historic Columbi
 a River Hwy.\, Troutdale\, OR\, 97060\, United States
X-APPLE-STRUCTURED-LOCATION;VALUE=URI;X-ADDRESS=101 Historic Columbia River
  Hwy.\, Troutdale\, OR\, 97060\, United States;X-APPLE-RADIUS=100;X-TITLE=
 Oldtown Troutdale (next to railroad tracks):geo:0,0
END:VEVENT
BEGIN:VTIMEZONE
TZID:America/Los_Angeles
X-LIC-LOCATION:America/Los_Angeles
BEGIN:DAYLIGHT
DTSTART:20250309T030000
TZOFFSETFROM:-0800
TZOFFSETTO:-0700
TZNAME:PDT
END:DAYLIGHT
END:VTIMEZONE
END:VCALENDAR