BEGIN:VCALENDAR
VERSION:2.0
PRODID:-//wp-events-plugin.com//7.0.5//EN
TZID:America/Los_Angeles
X-WR-TIMEZONE:America/Los_Angeles
BEGIN:VEVENT
UID:726@onc-pdx.org
DTSTART;TZID=America/Los_Angeles:20200217T060000
DTEND;TZID=America/Los_Angeles:20200217T180000
DTSTAMP:20200214T214238Z
URL:https://onc-pdx.org/events/mount-hood-cooper-spur-advanced-telemark-at
 /
SUMMARY:Mount Hood - Cooper Spur (Advanced/Telemark/AT)
DESCRIPTION:While thousands of downhill skiers are packed into the groomed 
 slopes on the south and east sides of Mt Hood\, we’ll take the whole nor
 th side for ourselves on this advanced tour. If you haven’t been to Coop
 er Spur in the winter before\, with the right snow\, it is magical and def
 initely worth the climb.\n\n\nWe’ll start at Cooper Spur\, put on skins 
 and climb up almost 2\,000 feet to Tilly Jane. We’ll take a lunch break 
 there and then push on up to the open slopes above. Hopefully we’ll make
  it to the Cooper Spur rock shelter at 6\,600 feet. Then we have fun as we
  demonstrate our downhill skiing prowess on the open slopes then to Ghost 
 Ridge and then down through the burn area below Tilly Jane Campground \n\n
 \nFor this tour you need to have skins and Telemark or AT skis.  \n\n\nT
 o be on this tour you must contact me by e-mail in advance. I do this so t
 hat I can send each potential participant an info packet with more info on
  difficulty and expectations for this tour. Additionally\, I want all your
  e-mail addresses so that in case the trip is cancelled I can contact ever
 yone. Sorry for the hassle related with this but I need to ensure a safe t
 our. \n\n\nLeader: Scott Diamond \nEmail: scott.diamond.mail@gmail.com \nM
 obile: 503.643.6779\nMeeting time/Place: As noted above\, e-mail me for in
 fo \nDog’s allowed: No \nCost: Plan on $20/skier for carpool cost\n\n
CATEGORIES:Backcountry Ski/Telemarking
END:VEVENT
BEGIN:VTIMEZONE
TZID:America/Los_Angeles
X-LIC-LOCATION:America/Los_Angeles
BEGIN:STANDARD
DTSTART:20191103T010000
TZOFFSETFROM:-0700
TZOFFSETTO:-0800
TZNAME:PST
END:STANDARD
END:VTIMEZONE
END:VCALENDAR