BEGIN:VCALENDAR
VERSION:2.0
PRODID:-//wp-events-plugin.com//7.0.5//EN
TZID:America/Los_Angeles
X-WR-TIMEZONE:America/Los_Angeles
BEGIN:VEVENT
UID:901@onc-pdx.org
DTSTART;TZID=America/Los_Angeles:20220308T190000
DTEND;TZID=America/Los_Angeles:20220308T210000
DTSTAMP:20220201T203058Z
URL:https://onc-pdx.org/events/monthly-program-written-in-the-snows-march-
 8th/
SUMMARY:Monthly Program - Written in the Snows - March 8th
DESCRIPTION:Join ONC-PDX on Tuesday\, March 8 for:\n\nZoom Program: "Writt
 en in the Snows" with Lowell Skoog\n\n7:00 p.m. Lets talk—share current\
 , future and past adventures and chat about the upcoming season!\n7:30 p.m
 . Brief general meeting followed by program: "Written in the Snows" with L
 owell Skoog\n\nJoin Lowell Skoog for a presentation of his book "Written i
 n the Snows: Across Time on Skis in the Pacific Northwest\," describing th
 e rich history of the past century of Northwest ski culture. The narrated 
 presentation will include over 100 historic images supplemented with archi
 val film clips. The 45-minute program will be followed by an opportunity f
 or brief Q&amp\;A.\n\nThe link will be sent to members one week before the
  event.\n\n\n\n&nbsp\;\n\n------------------------------------------------
 --------------------------------------------------------------------------
CATEGORIES:Meeting
END:VEVENT
BEGIN:VTIMEZONE
TZID:America/Los_Angeles
X-LIC-LOCATION:America/Los_Angeles
BEGIN:STANDARD
DTSTART:20211107T010000
TZOFFSETFROM:-0700
TZOFFSETTO:-0800
TZNAME:PST
END:STANDARD
END:VTIMEZONE
END:VCALENDAR