BEGIN:VCALENDAR
VERSION:2.0
PRODID:-//wp-events-plugin.com//7.0.5//EN
TZID:America/Los_Angeles
X-WR-TIMEZONE:America/Los_Angeles
BEGIN:VEVENT
UID:975@onc-pdx.org
DTSTART;TZID=America/Los_Angeles:20221011T181500
DTEND;TZID=America/Los_Angeles:20221011T210000
DTSTAMP:20221006T061527Z
URL:https://onc-pdx.org/events/monthly-program-trip-extravaganza-oct-11/
SUMMARY:Monthly Program - Trip Extravaganza! - Oct 11
DESCRIPTION:Join ONC-PDX on Tuesday\, October 11th for:\n\nONC-PDX Monthly 
 Meeting\n“Overnight Trips Extravaganza”\n\nPresenters: ONC-PDX Trips C
 ommittee and Trip Leaders\n\nWhen: Tuesday October 11\, 6:30pm – 9pm.\n\
 nWhere: Multnomah Arts Center\, Room 7\, 7688 SW Capitol Hwy\, Portland\, 
 OR 97219 (map)\nImportant: Room 7 is at the end of the hall that starts by
  the front desk.\n\n* Also on Zoom (your choice!) The link will be sent to
  members about a week before the event.\n\n6:15pm: Social and potluck\, b
 eer and wine allowed. Come share\, current\, future\, and past adventures 
 as we begin the ONC program season!\n7:00 pm: Program.\n\nTitle: “ONC 
 Trips Extravaganza”\nPresenters: ONC-PDX Trips Committee and Trip Leader
 s\n\n\n\n&nbsp\;\n\n&nbsp\;\n\n&nbsp\;\n\n&nbsp\;\n\n&nbsp\;
CATEGORIES:Meeting
END:VEVENT
BEGIN:VTIMEZONE
TZID:America/Los_Angeles
X-LIC-LOCATION:America/Los_Angeles
BEGIN:DAYLIGHT
DTSTART:20220313T030000
TZOFFSETFROM:-0800
TZOFFSETTO:-0700
TZNAME:PDT
END:DAYLIGHT
END:VTIMEZONE
END:VCALENDAR