BEGIN:VCALENDAR
VERSION:2.0
PRODID:-//wp-events-plugin.com//7.0.5//EN
TZID:America/Los_Angeles
X-WR-TIMEZONE:America/Los_Angeles
BEGIN:VEVENT
UID:1007@onc-pdx.org
DTSTART;TZID=America/Los_Angeles:20230110T183000
DTEND;TZID=America/Los_Angeles:20230110T203000
DTSTAMP:20230123T180634Z
URL:https://onc-pdx.org/events/monthly-program-the-monochromatic-mountain/
SUMMARY:Monthly Program - The Monochromatic Mountain
DESCRIPTION:Join ONC-PDX on Tuesday\, January 10&nbsp\;for:\n\n"The Monochr
 omatic Mountain" presented by John Scurlock\n\nWhen:&nbsp\;Tuesday Jan 10\
 , 6:30pm – 8:30pm.\n\nWhere:&nbsp\;Multnomah Arts Center\, Room 30* (in 
 the Senior Center\; park in back of the building and enter through the doo
 rs on the right that say Senior Center).\n\n* Also on Zoom: The link will 
 be sent to members one week before the event.\n\n6:30 pm:&nbsp\;Potluck. B
 ring a dish to share\, eating utensils\, and a drink if you wish\n7:15 pm:
 &nbsp\;Short Club Meeting\n7:30 pm-8:30 pm:&nbsp\;Program: “The Monochro
 matic Mountain” – John Scurlock\n\nAbout the program:\n\nJohn Scurlock
 \, renowned aerial photographer\, climber\, skier\, and author\, presents 
 “The Monochromatic Mountain.”\n\nSince 2002 John has covered terrain f
 rom Alaska to California and from the Coast Mountains and Cascades to the 
 Rockies of Canada and the United States. In 2018\, he completed an eleven-
 year project (in cooperation with Portland State University) to photograph
  every glacier in the lower forty-eight states. His images have appeared i
 n numerous books and publications. His ground-breaking book\, ‘Snow &amp
 \; Spire: Flights to Winter in the North Cascade Range’\, was published 
 in November\, 2011.\n\nJoin us for a presentation highlighting John’s aw
 e-inspiring aerial black and white photographs of mountains and glaciers a
 cross North America\, and his journey in capturing them.\n\nHope to see yo
 u in person or online!\n\n \n\n\n\n
CATEGORIES:Meeting
END:VEVENT
BEGIN:VTIMEZONE
TZID:America/Los_Angeles
X-LIC-LOCATION:America/Los_Angeles
BEGIN:STANDARD
DTSTART:20221106T010000
TZOFFSETFROM:-0700
TZOFFSETTO:-0800
TZNAME:PST
END:STANDARD
END:VTIMEZONE
END:VCALENDAR