BEGIN:VCALENDAR
VERSION:2.0
PRODID:-//wp-events-plugin.com//7.0.5//EN
TZID:America/Los_Angeles
X-WR-TIMEZONE:America/Los_Angeles
BEGIN:VEVENT
UID:1285@onc-pdx.org
DTSTART;TZID=America/Los_Angeles:20260113T183000
DTEND;TZID=America/Los_Angeles:20260113T203000
DTSTAMP:20250923T035725Z
URL:https://onc-pdx.org/events/monthly-program-the-history-of-skiing-richa
 rd-brenne/
SUMMARY:Monthly Program - The History of Skiing - Richard Brenne
DESCRIPTION:ONC-PDX Monthly Meeting\n"The History of Skiing\, including Nor
 dic and in Oregon" - Richard Brenne\n\nWhen: Tuesday January 13\, 6:30pm 
 – 8:30pm.\nWhere: Multnomah Arts Center (room TBA)\n\n* Also on Zoom: Li
 nk sent to members by email.\n\n6:30 pm: Potluck. Bring a dish to share\, 
 eating utensils\, and a non-alcoholic drink if you wish\n7:15 pm: Short Cl
 ub Meeting\n7:30 pm-8:30 pm: Program: "The History of Skiing\, including N
 ordic and in Oregon" - Richard Brenne\n\nAbout the program:\n\nThe History
  of Skiing\, including Nordic and in Oregon\n\nBefore about a century ago\
 , all skiing was Nordic skiing.  Richard thinks that skiing (or its likel
 y older sibling\, snowshoeing) might've been a key in persistence hunting\
 , the migration toward the Americas\, the domestication of wolves\, and th
 e first herding of reindeer.  He traces the history of skiing from its or
 igins to the present\, emphasizing Nordic skiing and finally Oregon.  Ric
 hard's grandmother Nordic skied to school in Norway in the 1890s\, he star
 ted Nordic skiing in 1972\, and used Nordic skis to climb and ski off Mt. 
 Hood\, Mt. Whitney and the slightly smaller Council Crest many times.  Hi
 s daughter and grandchildren are all avid Nordic and Alpine skiers\, like 
 he is.\n\nHope to see you in person or online!\n\n
CATEGORIES:Meeting
END:VEVENT
BEGIN:VTIMEZONE
TZID:America/Los_Angeles
X-LIC-LOCATION:America/Los_Angeles
BEGIN:STANDARD
DTSTART:20251102T010000
TZOFFSETFROM:-0700
TZOFFSETTO:-0800
TZNAME:PST
END:STANDARD
END:VTIMEZONE
END:VCALENDAR