BEGIN:VCALENDAR
VERSION:2.0
PRODID:-//wp-events-plugin.com//7.0.5//EN
TZID:America/Los_Angeles
X-WR-TIMEZONE:America/Los_Angeles
BEGIN:VEVENT
UID:1288@onc-pdx.org
DTSTART;TZID=America/Los_Angeles:20260310T183000
DTEND;TZID=America/Los_Angeles:20260310T203000
DTSTAMP:20260222T205915Z
URL:https://onc-pdx.org/events/monthly-program-skiing-in-japan-steve-levy/
SUMMARY:Monthly Program - Skiing in Japan - Steve Levy
DESCRIPTION:ONC-PDX Monthly Meeting\n"Skiing in Japan" - Steve Levy\n\nWhen
 : Tuesday March 10\, 6:30pm – 8:30pm.\nWhere: Multnomah Arts Center\, Ro
 om 33\n\n* Also on Zoom: Link sent to members by email.\n\n6:30 pm: Potluc
 k. Bring a dish to share\, eating utensils\, and a non-alcoholic drink if 
 you wish\n7:15 pm: Short Club Meeting\n7:30 pm-8:30 pm: Program: "Skiing i
 n Japan" - Steve Levy\n\nAbout the program:\n\n"Skiing in Japan" - Steve L
 evy\n\nTo celebrate Steve Levy's 80th birthday\, friends decided skiing in
  Japan would be appropriate.\nHakuba\, site of the 1996 Nagano Winter Olym
 pics and famed for its powder snow\, was the destination.\nSince it was Ja
 pan\, the celebrated snow monkeys of Nagano were irresistible\, as were th
 e temples of Kyoto\, and the urban wonders of Tokyo.\n\nSteve will share p
 ictures and stories from his trip.\n\nHope to see you in person or online!
 \n\n\n\n\n\n\n\n\n\n\n\n
CATEGORIES:Meeting
END:VEVENT
BEGIN:VTIMEZONE
TZID:America/Los_Angeles
X-LIC-LOCATION:America/Los_Angeles
BEGIN:DAYLIGHT
DTSTART:20260308T030000
TZOFFSETFROM:-0800
TZOFFSETTO:-0700
TZNAME:PDT
END:DAYLIGHT
END:VTIMEZONE
END:VCALENDAR