BEGIN:VCALENDAR
VERSION:2.0
PRODID:-//wp-events-plugin.com//7.0.5//EN
TZID:America/Los_Angeles
X-WR-TIMEZONE:America/Los_Angeles
BEGIN:VEVENT
UID:1284@onc-pdx.org
DTSTART;TZID=America/Los_Angeles:20251209T183000
DTEND;TZID=America/Los_Angeles:20251209T203000
DTSTAMP:20250923T044506Z
URL:https://onc-pdx.org/events/monthly-program-sailing-from-mexico-to-fiji
 /
SUMMARY:Monthly Program - Sailing from Mexico to Fiji
DESCRIPTION:ONC-PDX Monthly Meeting\n"Across the Wide Pacific: Our Sailing 
 Voyage from Mexico to Fiji"\nPierre Blouin and Marie-Josee Dion\n\nWhen: T
 uesday December 9\, 6:30pm – 8:30pm.\nWhere: Multnomah Arts Center (room
  TBA)\n\n* Also on Zoom: Link sent to members by email.\n\n6:30 pm: Potluc
 k. Bring a dish to share\, eating utensils\, and a non-alcoholic drink if 
 you wish\n7:15 pm: Short Club Meeting\n7:30 pm-8:30 pm: Program: "Across t
 he Wide Pacific: Our Sailing Voyage from Mexico to Fiji"\n\nPierre Blouin 
 and Marie-Josee Dion\n\nAbout the program:\n\nPierre and Marie-Josee are O
 NC members. They have been sailing the world and want to share their adven
 tures with us! More details to come.\n\n
CATEGORIES:Meeting
END:VEVENT
BEGIN:VTIMEZONE
TZID:America/Los_Angeles
X-LIC-LOCATION:America/Los_Angeles
BEGIN:STANDARD
DTSTART:20251102T010000
TZOFFSETFROM:-0700
TZOFFSETTO:-0800
TZNAME:PST
END:STANDARD
END:VTIMEZONE
END:VCALENDAR