BEGIN:VCALENDAR
VERSION:2.0
PRODID:-//wp-events-plugin.com//7.0.5//EN
TZID:America/Los_Angeles
X-WR-TIMEZONE:America/Los_Angeles
BEGIN:VEVENT
UID:1289@onc-pdx.org
DTSTART;TZID=America/Los_Angeles:20260414T183000
DTEND;TZID=America/Los_Angeles:20260414T203000
DTSTAMP:20260314T005520Z
URL:https://onc-pdx.org/events/monthly-program-outdoor-adventures-in-north
 ern-and-eastern-europe/
SUMMARY:Monthly Program - Outdoor Adventures in Northern and Eastern Europe
DESCRIPTION:ONC-PDX Monthly Meeting\n"Outdoor Adventures in Northern and Ea
 stern Europe" - Ron Bekey and Ramona Holmes\n\nWhen: Tuesday April 14\, 6:
 30pm – 8:30pm.\nWhere: Multnomah Arts Center (room 33 - see map below)\n
 \n* Also on Zoom: Link sent to members by email.\n\n6:30 pm: Potluck. Brin
 g a dish to share\, eating utensils\, and a non-alcoholic drink if you wis
 h\n7:15 pm: Short Club Meeting\n7:30 pm-8:30 pm: Program: "Outdoor Adventu
 res in Northern and Eastern Europe" - Ron Bekey and Ramona Holmes\n\nAbout
  the program:\n\n"Outdoor Adventures in Northern and Eastern Europe" - Ron
  Bekey and Ramona Holmes\n\nRon and Ramona spent two months in summer 2025
  traveling around northern and eastern Europe\, visiting many interesting 
 sites and exploring natural areas along the way. Highlights include Lahema
 a National Park in Estonia\, Sigulde National Park in Latvia\, Aukstaitijo
 s National Park in Lithuania and the High Tatras in Slovakia.\n\nHope to s
 ee you in person or online!\n\n\n
CATEGORIES:Meeting
END:VEVENT
BEGIN:VTIMEZONE
TZID:America/Los_Angeles
X-LIC-LOCATION:America/Los_Angeles
BEGIN:DAYLIGHT
DTSTART:20260308T030000
TZOFFSETFROM:-0800
TZOFFSETTO:-0700
TZNAME:PDT
END:DAYLIGHT
END:VTIMEZONE
END:VCALENDAR