BEGIN:VCALENDAR
VERSION:2.0
PRODID:-//wp-events-plugin.com//7.0.5//EN
TZID:America/Los_Angeles
X-WR-TIMEZONE:America/Los_Angeles
BEGIN:VEVENT
UID:1188@onc-pdx.org
DTSTART;TZID=America/Los_Angeles:20241112T183000
DTEND;TZID=America/Los_Angeles:20241112T203000
DTSTAMP:20241029T054826Z
URL:https://onc-pdx.org/events/monthly-program-oregons-best-backcountry-sk
 i-trips-2/
SUMMARY:Monthly Program - Oregon's best Backcountry Ski Trips
DESCRIPTION:ONC-PDX Monthly Meeting\n“Oregon's Best Backcountry Ski Trips
 " - William Sullivan\n\nWhen: Tuesday November 12\, 6:30pm – 8:30pm.\n\n
 Where: Multnomah Arts Center\, Room 30* (in the Senior Center\; park in ba
 ck of the building and enter through the doors on the right that say Senio
 r Center).\n\n* Also on Zoom: Link sent to members by email.\n\n6:30 pm: P
 otluck. Bring a dish to share\, eating utensils\, and a drink if you wish\
 n7:15 pm: Short Club Meeting\n7:30 pm-8:30 pm: Program: “Oregon's best B
 ackcountry Ski Trips" - William Sullivan\n\nAbout the program:\n\nOregon's
  best Backcountry Ski Trips\n\nOregon outdoor guru Bill Sullivan takes us 
 on a tour of the state's best\nbackcountry ski adventures\, from a winter 
 visit to Crater Lake\nto a snow camp in the heart of the Three Sisters Wil
 derness.\nA fifth-generation Oregonian\, Sullivan has written a dozen book
 s about\nOregon's outdoors\, as well as two books on Oregon history\, thre
 e adventure\nmemoirs\, and eight novels. His journal\, "Listening for Coyo
 te" was chosen by\nthe Oregon Cultural Heritage Commission as one of the 1
 00 most significant\nbooks in the state's history. His "Atlas of Oregon Wi
 lderness" describes nearly\n200 Nordic ski and snowshoe trips. His five-vo
 lume series of "100 Hikes"\nguidebooks cover virtually every trail in the 
 state -- and yes\, he has hiked\nthem all.\n\nHope to see you in person or
  online!\n\n\n\n\n\n\n\n\n\n&nbsp\;
CATEGORIES:Meeting
END:VEVENT
BEGIN:VTIMEZONE
TZID:America/Los_Angeles
X-LIC-LOCATION:America/Los_Angeles
BEGIN:STANDARD
DTSTART:20241103T010000
TZOFFSETFROM:-0700
TZOFFSETTO:-0800
TZNAME:PST
END:STANDARD
END:VTIMEZONE
END:VCALENDAR