BEGIN:VCALENDAR
VERSION:2.0
PRODID:-//wp-events-plugin.com//7.0.5//EN
TZID:America/Los_Angeles
X-WR-TIMEZONE:America/Los_Angeles
BEGIN:VEVENT
UID:1018@onc-pdx.org
DTSTART;TZID=America/Los_Angeles:20230207T183000
DTEND;TZID=America/Los_Angeles:20230207T203000
DTSTAMP:20230205T175726Z
URL:https://onc-pdx.org/events/monthly-program-nepal-and-skiing-in-the-eu/
SUMMARY:Monthly Program - Nepal and Skiing in the EU
DESCRIPTION:ONC-PDX Monthly Meeting\n“Trekking in Nepal” – Susan Watt
  *and* “ONC-PDX in the EU – Richard Crimi\n\nWhen: Tuesday Feb 7\, 6:3
 0pm – 8:30pm.\n\nWhere: Multnomah Arts Center\, Room 30* (in the Senior 
 Center\; park in back of the building and enter through the doors on the r
 ight that say Senior Center).\n\n* Also on Zoom: Link sent to members by e
 mail.\n\n6:30 pm: Potluck. Bring a dish to share\, eating utensils\, and a
  drink if you wish\n7:15 pm: Short Club Meeting\n7:30 pm-8:30 pm: Program:
  “Trekking in Nepal” – Susan Watt *and* “ONC-PDX in the EU – Ric
 hard Crimi\n\nAbout the programs:\n\nTreking in Nepal\, November 2019\nFro
 m Susan Watt: I trekked\, with two others for a month from Tumlingtar\, Ne
 pal to Kanchanjunga\, the 3d highest peak in the Himalayas. Kanchanjunga i
 s on the eastern end of the Himalayas and close to the borders with Tibet/
 China &amp\; India. It was not heavily visited by other trekkers and the a
 ccommodations were primitive\, but the people were welcoming and the scene
 ry was majestical! No matter how high we climbed\, there were always snowy
  mountain peaks looming above us. The scale of it was humbling. Hiking was
  challenging and I enjoyed the slow pace in sync with everyone else who we
 re walking to get where they were going. We stayed in family homes along t
 he way and small tea houses at the higher elevations. The experience gave 
 me a much closer connection to the people and way of life in the rural are
 as far from roads\, vehicles\, electrical grid\, or any modern appliances.
  We also spent time in Kathmandu and Chitwan National Park and Wildlife Pr
 eserve.\nThe photos were all taken with my iphone and are a diary of the t
 rip.\n\nONC-PDX in the EU\nFrom Richard Crimi: In 2018\, a group of club m
 embers traveled to Europe to experience the skiing\, take in some cultural
  sites\, and of course\, to enjoy the cuisine. Travel with them to Austria
 \, southern Germany\, the Dolomites\, and to Venice in a video clip of the
  highlights. Presented by Richard Crimi with a smiling group of ONC-PDX sk
 iers.\n\nHope to see you in person or online!\n\n\n\n\n\n&nbsp\;\n\n&nbsp\
 ;\n\n\n\n
CATEGORIES:Meeting
END:VEVENT
BEGIN:VTIMEZONE
TZID:America/Los_Angeles
X-LIC-LOCATION:America/Los_Angeles
BEGIN:STANDARD
DTSTART:20221106T010000
TZOFFSETFROM:-0700
TZOFFSETTO:-0800
TZNAME:PST
END:STANDARD
END:VTIMEZONE
END:VCALENDAR