BEGIN:VCALENDAR
VERSION:2.0
PRODID:-//wp-events-plugin.com//7.0.5//EN
TZID:America/Los_Angeles
X-WR-TIMEZONE:America/Los_Angeles
BEGIN:VEVENT
UID:1234@onc-pdx.org
DTSTART;TZID=America/Los_Angeles:20250408T183000
DTEND;TZID=America/Los_Angeles:20250408T203000
DTSTAMP:20250315T053700Z
URL:https://onc-pdx.org/events/monthly-program-monument-valley-and-the-fou
 r-corners-region/
SUMMARY:Monthly Program - MONUMENT VALLEY and the FOUR CORNERS REGION
DESCRIPTION:ONC-PDX Monthly Meeting\n“MONUMENT VALLEY and the FOUR CORNER
 S REGION" - Steve Levy and Sue Van Loon\n\nWhen: Tuesday April 8\, 6:30pm 
 – 8:30pm.\nWhere: Multnomah Arts Center\, Room 30* (in the Senior Center
 \; park in back of the building and enter through the doors on the right t
 hat say Senior Center).\n\n* Also on Zoom: Link sent to members by email.\
 n\n6:30 pm: Potluck. Bring a dish to share\, eating utensils\, and a non-a
 lcoholic drink if you wish\n7:15 pm: Short Club Meeting\n7:30 pm-8:30 pm: 
 Program: "MONUMENT VALLEY and the FOUR CORNERS REGION" - Steve Levy and Su
 e Van Loon\n\nAbout the program:\n\nMONUMENT VALLEY and the FOUR CORNERS R
 EGION\n\nFor the 35th consecutive year (approximately) Steve Levy\, along 
 with Sue Van Loon\, will present a program of a recent adventure. This yea
 r's explores the 4 Corners region of Arizona\, New Mexico and Utah (Colora
 do was away at the time). Visits were made to Chaco Canyon and Canyon de C
 helly\, Monument Valley and Valley of the Gods. Perhaps the most unusual o
 f the places explored were the Ah-Hi-Sle-Pah wilderness and the Bisti Badl
 ands\, both noted for their multi-colored badlands\, giant sandstone hoodo
 os and petrified wood\, along with dinosaur bones.\n\nHope to see you in p
 erson or online!\n\n\n\n\n\n\n\n\n\n
CATEGORIES:Meeting
END:VEVENT
BEGIN:VTIMEZONE
TZID:America/Los_Angeles
X-LIC-LOCATION:America/Los_Angeles
BEGIN:DAYLIGHT
DTSTART:20250309T030000
TZOFFSETFROM:-0800
TZOFFSETTO:-0700
TZNAME:PDT
END:DAYLIGHT
END:VTIMEZONE
END:VCALENDAR