BEGIN:VCALENDAR
VERSION:2.0
PRODID:-//wp-events-plugin.com//7.0.5//EN
TZID:America/Los_Angeles
X-WR-TIMEZONE:America/Los_Angeles
BEGIN:VEVENT
UID:1229@onc-pdx.org
DTSTART;TZID=America/Los_Angeles:20250311T183000
DTEND;TZID=America/Los_Angeles:20250311T203000
DTSTAMP:20250306T044042Z
URL:https://onc-pdx.org/events/monthly-program-modern-cartography-and-mapp
 ing-mount-hood-what-are-maps-made-of/
SUMMARY:Monthly Program - Modern Cartography and Mapping Mount Hood: what a
 re maps made of?
DESCRIPTION:ONC-PDX Monthly Meeting\n“Modern Cartography and Mapping Moun
 t Hood: what are maps made of?" - James Wilson\n\nWhen: Tuesday March 11\,
  6:30pm – 8:30pm.\nWhere: Multnomah Arts Center\, Room 30* (in the Senio
 r Center\; park in back of the building and enter through the doors on the
  right that say Senior Center).\n\n* Also on Zoom: Link sent to members by
  email.\n\n6:30 pm: Potluck. Bring a dish to share\, eating utensils\, and
  a non-alcoholic drink if you wish\n7:15 pm: Short Club Meeting\n7:30 pm-8
 :30 pm: Program: “Modern Cartography and Mapping Mount Hood: what are ma
 ps made of?" - James Wilson\n\nAbout the program:\n\nModern Cartography an
 d Mapping Mount Hood: what are maps made of?\n\nMaps are powerful tools fo
 r understanding our environment and how we can navigate and interact with 
 it\, and an important resource for maintaining and expanding access to pub
 lic lands. Local cartographer James Wilson discusses the modern cartograph
 ic landscape and tools for planning and staying found on adventures. He sh
 ares some of his insights and adventures across thousands of miles on foot
  in the Mount Hood National Forest in the field collecting data and on the
  construction of new maps\, published under Elevation Changes Cartographic
 - including the fresh MHNF Winter Recreation field map.\n\nHope to see you
  in person or online!\n\n\n\n   
CATEGORIES:Meeting
END:VEVENT
BEGIN:VTIMEZONE
TZID:America/Los_Angeles
X-LIC-LOCATION:America/Los_Angeles
BEGIN:DAYLIGHT
DTSTART:20250309T030000
TZOFFSETFROM:-0800
TZOFFSETTO:-0700
TZNAME:PDT
END:DAYLIGHT
END:VTIMEZONE
END:VCALENDAR