BEGIN:VCALENDAR
VERSION:2.0
PRODID:-//wp-events-plugin.com//7.0.5//EN
TZID:America/Los_Angeles
X-WR-TIMEZONE:America/Los_Angeles
BEGIN:VEVENT
UID:829@onc-pdx.org
DTSTART;TZID=America/Los_Angeles:20210914T190000
DTEND;TZID=America/Los_Angeles:20210914T210000
DTSTAMP:20210906T023317Z
URL:https://onc-pdx.org/events/monthly-program-iceland/
SUMMARY:Monthly Program - Iceland
DESCRIPTION:Join ONC-PDX on Tuesday\, September 14 for:\n\nFire and Ice: Th
 e natural wonders of Iceland\nvia Zoom\n\n7:00 p.m. Lets talk—share summ
 er adventures and chat about the upcoming season!\n7:30 p.m. Brief general
  meeting followed by programFire and Ice: The natural wonders of Iceland\n
 \nJoin Ron Bekey and Ramona Holmes for a multimedia adventure based on the
 ir recent trip to Iceland. Hike dramatic trails to an erupting volcano and
  a hot river you can bathe in\, take a ferry to the Arctic Circle to see t
 housands of puffins\, kayak on a glacial lagoon full of icebergs\, marvel 
 at the geothermal features and waterfalls\, and learn more about this dram
 atic island and practical considerations for traveling there.\n\nFlyer bel
 ow\, or see original at: https://onc-pdx.org/wp-content/uploads/2021/09/21
 -Sept-14-Program-flier-web.pdf\n\nThe link will be sent to members one wee
 k before the event. Please remember to renew your membership!\n\n 21 Sept 
 14 Program flier web\n\n--------------------------------------------------
 ------------------------------------------------------------------------
CATEGORIES:Meeting
END:VEVENT
BEGIN:VTIMEZONE
TZID:America/Los_Angeles
X-LIC-LOCATION:America/Los_Angeles
BEGIN:DAYLIGHT
DTSTART:20210314T030000
TZOFFSETFROM:-0800
TZOFFSETTO:-0700
TZNAME:PDT
END:DAYLIGHT
END:VTIMEZONE
END:VCALENDAR