BEGIN:VCALENDAR
VERSION:2.0
PRODID:-//wp-events-plugin.com//7.0.5//EN
TZID:America/Los_Angeles
X-WR-TIMEZONE:America/Los_Angeles
BEGIN:VEVENT
UID:882@onc-pdx.org
DTSTART;TZID=America/Los_Angeles:20220208T190000
DTEND;TZID=America/Los_Angeles:20220208T210000
DTSTAMP:20220121T043359Z
URL:https://onc-pdx.org/events/monthly-program-history-skiing-methow-valle
 y-feb-8th/
SUMMARY:Monthly Program - History Skiing Methow Valley - Feb 8th
DESCRIPTION:Join ONC-PDX on Tuesday\, February 8 for:\n\nZoom Program: His
 tory of Backcountry skiing in the Methow Valley\n\n7:00 p.m. Lets talk—s
 hare current\, future and past adventures and chat about the upcoming seas
 on!\n7:30 p.m. Brief general meeting followed by program: History of Backc
 ountry Skiing in the Methow Valley\n\nOur February 8 speaker will be Don P
 ortman\, who has been a major force in developing cross-country skiing in 
 the Methow Valley and North Cascades for about 40 years.  With great phot
 os and stories\, he will recount the many changes and developments in x-c 
 skiing in this area during those decades.\n\nThe link will be sent to memb
 ers one week before the event.\n\n\n\n------------------------------------
 --------------------------------------------------------------------------
 ------------
CATEGORIES:Meeting
END:VEVENT
BEGIN:VTIMEZONE
TZID:America/Los_Angeles
X-LIC-LOCATION:America/Los_Angeles
BEGIN:STANDARD
DTSTART:20211107T010000
TZOFFSETFROM:-0700
TZOFFSETTO:-0800
TZNAME:PST
END:STANDARD
END:VTIMEZONE
END:VCALENDAR