BEGIN:VCALENDAR
VERSION:2.0
PRODID:-//wp-events-plugin.com//7.0.5//EN
TZID:America/Los_Angeles
X-WR-TIMEZONE:America/Los_Angeles
BEGIN:VEVENT
UID:1273@onc-pdx.org
DTSTART;TZID=America/Los_Angeles:20250909T183000
DTEND;TZID=America/Los_Angeles:20250909T203000
DTSTAMP:20250905T224104Z
URL:https://onc-pdx.org/events/monthly-program-hiking-the-west-coast-trail
 -on-vancouver-island/
SUMMARY:Monthly Program - Hiking the West Coast Trail on Vancouver Island
DESCRIPTION:ONC-PDX Monthly Meeting\n"Vancouver Island's West Coast Trail: 
 Impressions from two 6-day backpacking journeys" - Bill Stein\n\nWhen: Tue
 sday September 9\, 6:30pm – 8:30pm.\nWhere: Multnomah Arts Center\, * MA
 IN AUDITORIUM * this month.\n\n* Also on Zoom: Link sent to members by ema
 il.\n\n6:30 pm: Potluck. Bring a dish to share\, eating utensils\, and a n
 on-alcoholic drink if you wish\n7:15 pm: Short Club Meeting\n7:30 pm-8:30 
 pm: Program: "Vancouver Island's West Coast Trail: Impressions from two 6-
 day backpacking journeys" - Bill Stein\n\nAbout the program:\n\nVancouver 
 Island's West Coast Trail: Impressions from two 6-day backpacking journeys
 \n\nBill Stein\, new ONC trip leader and Mazamas trip leader since 2014\, 
 will share his photos and stories from two 6-day backpacking journeys on t
 he West Coast Trail\, southbound in June 2016 and northbound in June 2018.
  The 2016 family trip was prior to Canada's 2017 sesquicentennial\, and th
 ey had vastly improved many of the rotten boardwalks in time for the 2018 
 Mazamas trip. You'll hear lots about ladders\, tides\, slick surfaces\, an
 d wildlife. You'll gain an understanding of the rhythm of each day on the
  trail\, which should not be hiked quickly. You'll get information for pl
 anning your own adventure there\, such as there's nowhere to charge device
 s but there's U.S. phone service at every beachside campsite. You'll also 
 learn what's changed on the trail most recently. Come hear about the trail
  that some call\, though Bill would love to differ\, the best on earth.\n\
 nHope to see you in person or online!\n\n    \n\n&nbsp\;
CATEGORIES:Meeting
END:VEVENT
BEGIN:VTIMEZONE
TZID:America/Los_Angeles
X-LIC-LOCATION:America/Los_Angeles
BEGIN:DAYLIGHT
DTSTART:20250309T030000
TZOFFSETFROM:-0800
TZOFFSETTO:-0700
TZNAME:PDT
END:DAYLIGHT
END:VTIMEZONE
END:VCALENDAR