BEGIN:VCALENDAR
VERSION:2.0
PRODID:-//wp-events-plugin.com//7.0.5//EN
TZID:America/Los_Angeles
X-WR-TIMEZONE:America/Los_Angeles
BEGIN:VEVENT
UID:902@onc-pdx.org
DTSTART;TZID=America/Los_Angeles:20220405T190000
DTEND;TZID=America/Los_Angeles:20220405T210000
DTSTAMP:20220201T203454Z
URL:https://onc-pdx.org/events/monthly-program-hiking-remote-places-april-
 5th/
SUMMARY:Monthly Program - Hiking Remote Places - April 5th
DESCRIPTION:Join ONC-PDX on Tuesday\, April 5 for:\n\nZoom Program: "East o
 f the Cascades - Hiking Remote Places" with Steve Levy and Sue Van Loon\n\
 n7:00 p.m. Election results and Lets talk—share current\, future and pas
 t adventures and chat about the upcoming season!\n7:30 p.m. Brief general 
 meeting followed by program: "East of the Cascades - Hiking Remote Places"
  with Steve Levy and Sue Van Loon\n\nSteve Levy and Sue Van Loon present a
  follow-up to last year's program focussing on lesser-known hikes in Easte
 rn Oregon. Following the annual wildflower bloom\, their explorations incl
 ude Buckskin Point overlooking Hells Canyon\, Zumwalt Prairie\, the Aldric
 h Mountains\, the Strawberries\, Hart Mountain\, the Pueblos\, the Ochocos
  and a few places you maybe have never heard of but should.\n\nThe link wi
 ll be sent to members one week before the event.\n\n   \n\n&nbsp\;\n\n----
 --------------------------------------------------------------------------
 --------------------------------------------
CATEGORIES:Meeting
END:VEVENT
BEGIN:VTIMEZONE
TZID:America/Los_Angeles
X-LIC-LOCATION:America/Los_Angeles
BEGIN:DAYLIGHT
DTSTART:20220313T030000
TZOFFSETFROM:-0800
TZOFFSETTO:-0700
TZNAME:PDT
END:DAYLIGHT
END:VTIMEZONE
END:VCALENDAR