BEGIN:VCALENDAR
VERSION:2.0
PRODID:-//wp-events-plugin.com//7.0.5//EN
TZID:America/Los_Angeles
X-WR-TIMEZONE:America/Los_Angeles
BEGIN:VEVENT
UID:903@onc-pdx.org
DTSTART;TZID=America/Los_Angeles:20220503T190000
DTEND;TZID=America/Los_Angeles:20220503T210000
DTSTAMP:20220201T193925Z
URL:https://onc-pdx.org/events/monthly-program-geology-from-mt-bachelor-ma
 y-3rd/
SUMMARY:Monthly Program - Geology from Mt Bachelor - May 3rd
DESCRIPTION:Join ONC-PDX on Tuesday\, May 3 for:\n\nZoom Program: "Geology 
 from the Slopes of Mt. Bachelor" with Dr. Daniele Mckay\n\n7:00 p.m. Lets 
 talk—share current\, future and past adventures and chat about the upcom
 ing season!\n7:30 p.m. Brief general meeting followed by program: "Geology
  from the Slopes of Mt. Bachelor" with Dr. Daniele Mckay\n\nThe volcanic l
 andscapes of the Oregon Cascades have been shaped by tectonic forces that 
 are active on a global scale. In central Oregon\, these forces interact to
  create a geologically diverse region of snow-covered volcanic peaks and l
 andscapes created by faults. In this presentation\, geologist Daniele McKa
 y will explore the tectonic forces that have shaped Oregon and the Pacific
  Northwest\, with a focus on some of the spectacular geologic features tha
 t can be seen while skiing at Mt. Bachelor.\n\nThe link will be sent to me
 mbers one week before the event.\n\n&nbsp\;\n\n\n\n-----------------------
 --------------------------------------------------------------------------
 -------------------------
CATEGORIES:Meeting
END:VEVENT
BEGIN:VTIMEZONE
TZID:America/Los_Angeles
X-LIC-LOCATION:America/Los_Angeles
BEGIN:DAYLIGHT
DTSTART:20220313T030000
TZOFFSETFROM:-0800
TZOFFSETTO:-0700
TZNAME:PDT
END:DAYLIGHT
END:VTIMEZONE
END:VCALENDAR