BEGIN:VCALENDAR
VERSION:2.0
PRODID:-//wp-events-plugin.com//7.0.5//EN
TZID:America/Los_Angeles
X-WR-TIMEZONE:America/Los_Angeles
BEGIN:VEVENT
UID:1283@onc-pdx.org
DTSTART;TZID=America/Los_Angeles:20251104T183000
DTEND;TZID=America/Los_Angeles:20251104T203000
DTSTAMP:20251027T121752Z
URL:https://onc-pdx.org/events/monthly-program-club-planning-discussion-fi
 rst-tuesday/
SUMMARY:Monthly Program - VOLUNTEER APPRECIATION &amp\; MEMBER SOCIAL - FIR
 ST Tuesday
DESCRIPTION:ONC-PDX VOLUNTEER APPRECIATION &amp\; MEMBER SOCIAL\n\nTuesday\
 , November 4\, 2025 (FIRST Tuesday)\n\nWhere: Multnomah Arts Center Gymnas
 ium\n\nWhen: 6:30–9:00 PM\n\nYou are warmly invited to join the Oregon N
 ordic Club community for a sit-down dinner featuring salad and gourmet piz
 za!\n\nThis special evening has two goals:\n\n 	To recognize and appreciat
 e our amazing ONC member volunteers for their contributions during the 202
 4–25 season.\n 	To provide a fun and relaxed social gathering for all me
 mbers to connect and get to know each other better.\n\nWe’ll kick things
  off with a fun icebreaker activity to get everyone mingling. The evening 
 will include remarks from ONC President Pat Wheeler\, messages from key O
 NC contributors\, and a slideshow showcasing the best moments of the 2024-
 25 season.\n\nIt’s going to be a heartfelt and joyful evening celebratin
 g our vibrant ONC-PDX community — we hope to see you there!\n\nRSVP HERE
 \n\nKindly RSVP by Monday\, October 27th - 5:00 PM\n\nQuestions?  Email 
 memberprofiles@pdxnordic.org\n\nHope to see you there!\n\n
CATEGORIES:Meeting
END:VEVENT
BEGIN:VTIMEZONE
TZID:America/Los_Angeles
X-LIC-LOCATION:America/Los_Angeles
BEGIN:STANDARD
DTSTART:20251102T010000
TZOFFSETFROM:-0700
TZOFFSETTO:-0800
TZNAME:PST
END:STANDARD
END:VTIMEZONE
END:VCALENDAR