BEGIN:VCALENDAR
VERSION:2.0
PRODID:-//wp-events-plugin.com//7.0.5//EN
TZID:America/Los_Angeles
X-WR-TIMEZONE:America/Los_Angeles
BEGIN:VEVENT
UID:1240@onc-pdx.org
DTSTART;TZID=America/Los_Angeles:20250513T183000
DTEND;TZID=America/Los_Angeles:20250513T203000
DTSTAMP:20250425T223304Z
URL:https://onc-pdx.org/events/monthly-program-belize-and-tikal-in-guatema
 la/
SUMMARY:Monthly Program - Belize and Tikal in Guatemala
DESCRIPTION:ONC-PDX Monthly Meeting\n“Belize and Tikal in Guatemala" - Ro
 n Bekey and Ramona Holmes\n\nWhen: Tuesday May 13\, 6:30pm – 8:30pm.\nWh
 ere: Multnomah Arts Center\, Room 30* (in the Senior Center\; park in back
  of the building and enter through the doors on the right that say Senior 
 Center).\n\n* Also on Zoom: Link sent to members by email.\n\n6:30 pm: Pot
 luck. Bring a dish to share\, eating utensils\, and a non-alcoholic drink 
 if you wish\n7:15 pm: Short Club Meeting\n7:30 pm-8:30 pm: Program: “Bel
 ize and Tikal in Guatemala" - Ron Bekey and Ramona Holmes\n\nAbout the pro
 gram:\n\nBelize and Tikal in Guatemala\n\nJoin Ron and Ramona for a multim
 edia journey through Belize and Tikal in Guatemala\, based on their trip i
 n December 2024. Abundant wildlife\, ancient ruins\, beautiful beaches\, r
 ivers\, lush rainforests\, caves and more! Learn about the Garifuna and Ma
 yan cultures and the challenges and opportunities facing Belize and Guatem
 ala today.\n\nHope to see you in person or online!\n\n     
CATEGORIES:Meeting
END:VEVENT
BEGIN:VTIMEZONE
TZID:America/Los_Angeles
X-LIC-LOCATION:America/Los_Angeles
BEGIN:DAYLIGHT
DTSTART:20250309T030000
TZOFFSETFROM:-0800
TZOFFSETTO:-0700
TZNAME:PDT
END:DAYLIGHT
END:VTIMEZONE
END:VCALENDAR