BEGIN:VCALENDAR
VERSION:2.0
PRODID:-//wp-events-plugin.com//7.0.5//EN
TZID:America/Los_Angeles
X-WR-TIMEZONE:America/Los_Angeles
BEGIN:VEVENT
UID:1191@onc-pdx.org
DTSTART;TZID=America/Los_Angeles:20250114T183000
DTEND;TZID=America/Los_Angeles:20250114T203000
DTSTAMP:20241229T035927Z
URL:https://onc-pdx.org/events/monthly-program-avalanche-awareness/
SUMMARY:Monthly Program - Avalanche Awareness
DESCRIPTION:ONC-PDX Monthly Meeting\n“Avalanche Awareness" - Brittany Han
 \, Northwest Avalanche Center (NWAC)\n\nWhen: Tuesday January 14\, 6:30pm 
 – 8:30pm.\nWhere: Multnomah Arts Center\, Room 30* (in the Senior Center
 \; park in back of the building and enter through the doors on the right t
 hat say Senior Center).\n\n* Also on Zoom: Link sent to members by email.\
 n\n6:30 pm: Potluck. Bring a dish to share\, eating utensils\, and a non-a
 lcoholic drink if you wish\n7:15 pm: Short Club Meeting\n7:30 pm-8:30 pm: 
 Program: “Avalanche Awareness" - Brittany Han\, Northwest Avalanche Cent
 er (NWAC)\n\nAbout the program:\n\nAvalanche Awareness\n\nWhether you ski\
 , snowshoe\, snowboard\, or snowmobile\, recognition of avalanche danger i
 s an essential and potentially lifesaving skill. This introductory class p
 rovides a basic approach to managing risk. NWAC instructors will explain h
 ow to access avalanche and mountain weather forecasts and recognize basic
  signs of avalanche danger.\n\nHope to see you in person or online!\n\n\n
 \n\n\n\n\n\n\n&nbsp\;
CATEGORIES:Meeting
END:VEVENT
BEGIN:VTIMEZONE
TZID:America/Los_Angeles
X-LIC-LOCATION:America/Los_Angeles
BEGIN:STANDARD
DTSTART:20241103T010000
TZOFFSETFROM:-0700
TZOFFSETTO:-0800
TZNAME:PST
END:STANDARD
END:VTIMEZONE
END:VCALENDAR