BEGIN:VCALENDAR
VERSION:2.0
PRODID:-//wp-events-plugin.com//7.0.5//EN
TZID:America/Los_Angeles
X-WR-TIMEZONE:America/Los_Angeles
BEGIN:VEVENT
UID:971@onc-pdx.org
DTSTART;TZID=America/Los_Angeles:20220913T183000
DTEND;TZID=America/Los_Angeles:20220913T210000
DTSTAMP:20220907T163136Z
URL:https://onc-pdx.org/events/monthly-program-adventures-in-mexico-sep-13
 th/
SUMMARY:Monthly Program - Adventures in Mexico - Sep 13th
DESCRIPTION:Join ONC-PDX on Tuesday\, September 13th for:\n\nMonthly Meetin
 g: "Adventures in Mexico" with Ron Bekey and Ramona Holmes\n\nWhere: Mult
 nomah Arts Center\, Dance Studio\, 7688 SW Capitol Hwy\, Portland\, OR 972
 19 (map)\nImportant: the Dance Studio is behind the main building. See #
 20 on this map\n\n* Also on Zoom (your choice!) The link has been emailed 
 to members. If you didn't renew yet\, please do that now so you can get th
 e link and other member benefits!\n\n6:30 p.m. Social and potluck\, beer a
 nd wine allowed. Come share\, current\, future\, and past adventures as we
  begin the ONC program season!\n7:30 p.m. Brief general meeting followed
  by program: "Adventures in Mexico" with Ron and Ramona\n\nJoin Ron and Ra
 mona for a multimedia adventure in Mexico\, including hiking in the Sierra
  Norte mountains north of Oaxaca\, visiting the monarch butterfly winterin
 g areas in the high mountains west of Mexico City\, and exploring the beac
 hes\, cenotes and ruins of the Yucatan peninsula. This presentation is bas
 ed on two trips taken during the past three years and touches on just a sm
 all part of the amazing wilderness areas in Mexico.\n\nThe link will be se
 nt to members one week before the event.\n\n\n\n\n\n\n\n\n\n
CATEGORIES:Meeting
END:VEVENT
BEGIN:VTIMEZONE
TZID:America/Los_Angeles
X-LIC-LOCATION:America/Los_Angeles
BEGIN:DAYLIGHT
DTSTART:20220313T030000
TZOFFSETFROM:-0800
TZOFFSETTO:-0700
TZNAME:PDT
END:DAYLIGHT
END:VTIMEZONE
END:VCALENDAR