BEGIN:VCALENDAR
VERSION:2.0
PRODID:-//wp-events-plugin.com//7.0.5//EN
TZID:America/Los_Angeles
X-WR-TIMEZONE:America/Los_Angeles
BEGIN:VEVENT
UID:1286@onc-pdx.org
DTSTART;TZID=America/Los_Angeles:20260210T183000
DTEND;TZID=America/Los_Angeles:20260210T203000
DTSTAMP:20260112T052435Z
URL:https://onc-pdx.org/events/monthly-program-adventures-along-the-alcan-
 highway-to-alaska/
SUMMARY:Monthly Program - Adventures along the ALCAN highway to Alaska
DESCRIPTION:ONC-PDX Monthly Meeting\n"Adventures along the ALCAN highway to
  Alaska" - Jim Kress\n\nWhen: Tuesday February 10\, 6:30pm – 8:30pm.\nWh
 ere: Multnomah Arts Center (room TBA)\n\n* Also on Zoom: Link sent to memb
 ers by email.\n\n6:30 pm: Potluck. Bring a dish to share\, eating utensils
 \, and a non-alcoholic drink if you wish\n7:15 pm: Short Club Meeting\n7:3
 0 pm-8:30 pm: Program: ""Adventures along the ALCAN highway to Alaska" - J
 im Kress\n\nAbout the program:\n\n"Adventures along the ALCAN highway to A
 laska" - Jim Kress\n\nJim Kress was born in the Alaska Territory before it
  became a state in 1959. Having driven the ALCAN numerous times with his w
 ife Jane since the 1970s\, those trips have peaked their adventuring spiri
 t every time. Whether it’s a three night stay with an Inuvialuit family 
 in Tuktoyaktuk\, the landing of a Cessna on a glacier in Denali National P
 ark\, observing First Nations children being taught carving skills on ceda
 r planks\, kayaking in a stream filled with salmon in southeast Alaska\, w
 akening to the sunrise camped on the Arctic Circle\, or just enjoying the 
 unique culture of small towns along the way. Each of these have become lif
 etime memories.\n\nHope to see you in person or online!\n\n\n\n\n\n\n\n\n\
 n\n\n\n\n
CATEGORIES:Meeting
END:VEVENT
BEGIN:VTIMEZONE
TZID:America/Los_Angeles
X-LIC-LOCATION:America/Los_Angeles
BEGIN:STANDARD
DTSTART:20251102T010000
TZOFFSETFROM:-0700
TZOFFSETTO:-0800
TZNAME:PST
END:STANDARD
END:VTIMEZONE
END:VCALENDAR