BEGIN:VCALENDAR
VERSION:2.0
PRODID:-//wp-events-plugin.com//7.0.5//EN
TZID:America/Los_Angeles
X-WR-TIMEZONE:America/Los_Angeles
BEGIN:VEVENT
UID:693@onc-pdx.org
DTSTART;TZID=America/Los_Angeles:20200505T183000
DTEND;TZID=America/Los_Angeles:20200505T210000
DTSTAMP:20200615T005635Z
URL:https://onc-pdx.org/events/monthly-member-meeting-9/
SUMMARY:Monthly Member Meeting
DESCRIPTION:Trekking in Fiji...Fiji? ... Yes\, FijiDescription: Join Carole
  Beauclerk for a unique journey into the interior highlands of Fiji\, clim
 bing the country's highest peak\, hiking through grasslands\, cooling off 
 at waterfalls and rivers\, and staying in traditional villages\, where cer
 tain protocols need to be followed\, and each night&nbsp\; ending with a k
 ava ceremony. While trekking is in its infancy in Fiji\, one can be assure
 d of magnificent scenery and nature plus the warm hospitality of its peopl
 e and some destinations to relax after this arduous but rewarding 5 day tr
 ek. Carole will give travel\, trekking and cultural advice.When:    &nbsp\
 ;Tuesday\, May 5Location: Lucky Labrador Brewing Company\, 1945 NW Quimby 
 St.\, Portland6:30 p.m. Social Time7:30        &nbsp\;Program: Tanzania: A
 mazing animals\, scenery and musicFood/Beverages available $\n
ATTACH;FMTTYPE=image/jpeg:https://onc-pdx.org/wp-content/uploads/2019/10/1
 9-Nov-5-Program-flier.png
END:VEVENT
BEGIN:VTIMEZONE
TZID:America/Los_Angeles
X-LIC-LOCATION:America/Los_Angeles
BEGIN:DAYLIGHT
DTSTART:20200308T030000
TZOFFSETFROM:-0800
TZOFFSETTO:-0700
TZNAME:PDT
END:DAYLIGHT
END:VTIMEZONE
END:VCALENDAR