BEGIN:VCALENDAR
VERSION:2.0
PRODID:-//wp-events-plugin.com//7.0.5//EN
TZID:America/Los_Angeles
X-WR-TIMEZONE:America/Los_Angeles
BEGIN:VEVENT
UID:692@onc-pdx.org
DTSTART;TZID=America/Los_Angeles:20200407T183000
DTEND;TZID=America/Los_Angeles:20200407T210000
DTSTAMP:20200615T005635Z
URL:https://onc-pdx.org/events/monthly-member-meeting-8/
SUMMARY:Monthly Member Meeting
DESCRIPTION:Tanzania: Amazing animals\, scenery and musicJoin Ron Bekey and
  Ramona Holmes for a multimedia adventure through Tanzania\, including two
  camping safaris\, a large local music festival\, and visiting local peopl
 e in cities and villages throughout the country.When:    &nbsp\;Tuesday\, 
 April. 7Location: Lucky Labrador Brewing Company\, 1945 NW Quimby St.\, Po
 rtland6:30 p.m. Social Time7:30        &nbsp\;Program: Tanzania: Amazing a
 nimals\, scenery and musicFood/Beverages available $\n
ATTACH;FMTTYPE=image/jpeg:https://onc-pdx.org/wp-content/uploads/2019/10/1
 9-Nov-5-Program-flier.png
END:VEVENT
BEGIN:VTIMEZONE
TZID:America/Los_Angeles
X-LIC-LOCATION:America/Los_Angeles
BEGIN:DAYLIGHT
DTSTART:20200308T030000
TZOFFSETFROM:-0800
TZOFFSETTO:-0700
TZNAME:PDT
END:DAYLIGHT
END:VTIMEZONE
END:VCALENDAR